BEGIN:VCALENDAR
VERSION:2.0
PRODID:-//wp-events-plugin.com//7.2.3.1//EN
TZID:America/Detroit
X-WR-TIMEZONE:America/Detroit
BEGIN:VEVENT
UID:89170@annarborwithkids.com
DTSTART;TZID=America/Detroit:20251019T160000
DTEND;TZID=America/Detroit:20251019T213000
DTSTAMP:20250905T194917Z
URL:https://annarborwithkids.com/events/zoo-boo-2025-10-04-2025-10-05-2025
 -10-10-2025-10-11-2025-10-12-2025-10-17-2025-10-18-2025-10-19/
SUMMARY:Zoo Boo
DESCRIPTION:\nGather your little goblins — Zoo Boo\, presented by Corewel
 l Health Children’s\, returns this October! Bring your reusable bag\, en
 joy trick-or-treating at the Zoo and get ready for a full lineup of family
 -friendly entertainment\, character meet-and-greets and seasonal fun at ev
 ery turn.\n\n\n\nAs the sun sets\, watch as the Zoo comes alive with glowi
 ng “fun-kins\,” elaborate\, illuminated décor and displays\, costumed
  performers and nonstop fall festivities — all included with your ticket
 .\n\n\n\nWhat to expect:• Treat stations throughout the front half of th
 e Zoo• Illuminated displays that come alive at night• Live strolling p
 erformers and interactive entertainment• Hands-on learning opportunities
 • Halloween-themed face painting (available for purchase)• Themed phot
 o stops to capture the moment• Character meet-and-greets and family-frie
 ndly Halloween vibes• Seasonal market experience by Blake’s with fresh
  cider and donuts for purchase (20% of proceeds support conservation)\n\n\
 n\nThe Zoo Boo pathway is limited to the front half of the Zoo. Animal hab
 itats in the back of the Zoo will not be open. Please note the train will 
 not be running for Zoo Boo\n\n\n\n\n\nThe Detroit Zoo uses flexible pricin
 g based on demand. Prices range from $21-25. On site tickets are $27.\n\n\
 n\nWhen you purchase your online tickets you can add additional options li
 ke a dinner buffet\, Cider &amp\; Donuts\, Attractions\, or a ticket for W
 ild Lights - their holiday light show\n\n\n\n\n\n\n\n\n\n\n\n\n
CATEGORIES:Advance Registration,Animals,Arbor Annie's
 Highlights,Babies,Elementary,Halloween,Middle
 Schoolers,Outdoor,Parents,Preschoolers,Toddler,Trick or Treat
LOCATION:Detroit Zoo\, 8450 W. 10 Mile Road\, Royal Oak\, Michigan\, 48067\
 , Royal Oak\, United States
GEO:42.47575430000001;-83.14946250000003
X-APPLE-STRUCTURED-LOCATION;VALUE=URI;X-ADDRESS=8450 W. 10 Mile Road\, Roya
 l Oak\, Michigan\, 48067\, Royal Oak\, United States;X-APPLE-RADIUS=100;X-
 TITLE=Detroit Zoo:geo:42.47575430000001,-83.14946250000003
END:VEVENT
BEGIN:VTIMEZONE
TZID:America/Detroit
X-LIC-LOCATION:America/Detroit
BEGIN:DAYLIGHT
DTSTART:20250309T030000
TZOFFSETFROM:-0500
TZOFFSETTO:-0400
TZNAME:EDT
END:DAYLIGHT
END:VTIMEZONE
END:VCALENDAR