BEGIN:VCALENDAR
VERSION:2.0
PRODID:-//wp-events-plugin.com//7.2.3.1//EN
TZID:America/Detroit
X-WR-TIMEZONE:America/Detroit
BEGIN:VEVENT
UID:93555@annarborwithkids.com
DTSTART;TZID=America/Detroit:20260517T130000
DTEND;TZID=America/Detroit:20260517T130000
DTSTAMP:20260422T035808Z
URL:https://annarborwithkids.com/events/ypts-charlie-and-the-chocolate-fac
 tory-2026-05-17/
SUMMARY:YPT's Charlie and the Chocolate Factory
DESCRIPTION:\nYoung People's Theater is performing Charlie and the Chocolat
 e Factory this spring!\n\n\n\nOver the years we have seen many YPT shows. 
 Their shows are always very well done (and well attended\, so buy your tic
 kets soon).\n\n\n\n\n\nPerformance Schedule\n\n\n\n[events_list tag="ypt" 
 scope="2026-05-01\,2026-05-31"][/events_list]\n\n\n\n\n
CATEGORIES:Advance Registration,Arbor Annie's Highlights,Elementary,High
 Schoolers,Indoor Activities,Middle Schoolers,Parents,Theater
LOCATION:Power Center\, 121 Fletcher St\, Ann Arbor\, Michigan\, 48109\, Un
 iversity of Michigan\, United States
GEO:42.280773;-83.73582299999998
X-APPLE-STRUCTURED-LOCATION;VALUE=URI;X-ADDRESS=121 Fletcher St\, Ann Arbor
 \, Michigan\, 48109\, University of Michigan\, United States;X-APPLE-RADIU
 S=100;X-TITLE=Power Center:geo:42.280773,-83.73582299999998
END:VEVENT
BEGIN:VTIMEZONE
TZID:America/Detroit
X-LIC-LOCATION:America/Detroit
BEGIN:DAYLIGHT
DTSTART:20260308T030000
TZOFFSETFROM:-0500
TZOFFSETTO:-0400
TZNAME:EDT
END:DAYLIGHT
END:VTIMEZONE
END:VCALENDAR