BEGIN:VCALENDAR
VERSION:2.0
PRODID:-//wp-events-plugin.com//7.2.3.1//EN
TZID:America/Detroit
X-WR-TIMEZONE:America/Detroit
BEGIN:VEVENT
UID:35380@annarborwithkids.com
DTSTART;TZID=America/Detroit:20251026T130000
DTEND;TZID=America/Detroit:20251026T150000
DTSTAMP:20251009T201531Z
URL:https://annarborwithkids.com/events/ypsilanti-township-trunk-treat/
SUMMARY:Ypsilanti Township Trunk or Treat
DESCRIPTION:\nYpsilanti Township Community Center is hosting a Trunk or Tre
 at to add a dash of magic and a whole lot of treats to your spooky season.
 \n\n\n\nEach child attending will receive a hot meal from a food truck. \n
 \n\n\nResidents and local businesses will be there to pass out candy\n\n\n
 \nIf you are interested in attending the event to hand out candy from your
  decorated trunk or pop-up tent\, please contact&nbsp\;events.info@ypsitow
 nship.org&nbsp\;for more information.\n\n\n\nNo registration required.\n\n
 \n\n\n\n\n\n\n\n\n
CATEGORIES:Arbor Annie's
 Highlights,Elementary,Food,Free,Halloween,Outdoor,Preschoolers,Toddler,Tri
 ck or Treat,Vehicles
LOCATION:Ypsilanti Township Community Center\, 2025 E. Clark Rd\, Ypsilanti
 \, Michigan\, 48198\, Ypsilanti\, United States
GEO:42.259199;-83.57048900000001
X-APPLE-STRUCTURED-LOCATION;VALUE=URI;X-ADDRESS=2025 E. Clark Rd\, Ypsilant
 i\, Michigan\, 48198\, Ypsilanti\, United States;X-APPLE-RADIUS=100;X-TITL
 E=Ypsilanti Township Community Center:geo:42.259199,-83.57048900000001
END:VEVENT
BEGIN:VTIMEZONE
TZID:America/Detroit
X-LIC-LOCATION:America/Detroit
BEGIN:DAYLIGHT
DTSTART:20250309T030000
TZOFFSETFROM:-0500
TZOFFSETTO:-0400
TZNAME:EDT
END:DAYLIGHT
END:VTIMEZONE
END:VCALENDAR