BEGIN:VCALENDAR
VERSION:2.0
PRODID:-//wp-events-plugin.com//7.2.3.1//EN
TZID:America/Detroit
X-WR-TIMEZONE:America/Detroit
BEGIN:VEVENT
UID:71678@annarborwithkids.com
DTSTART;TZID=America/Detroit:20250526T090000
DTEND;TZID=America/Detroit:20250526T090000
DTSTAMP:20250519T001522Z
URL:https://annarborwithkids.com/events/ypsilanti-memorial-day-parade/
SUMMARY:Ypsilanti Memorial Day Parade
DESCRIPTION:\nThey Ypsilanti Memorial Day Parade will be held at 9a on Memo
 rial Day.\n\n\n\nIt will start at City Hall\, head north on North Huron to
  Cross Street. It will pause on the bridge and drop flowers in the river t
 o honor those who were lost at sea. Then they will head east to River St\,
  then turn north to Highland Cemetery for a short ceremony.\n\n\n\n\n
CATEGORIES:Arbor Annie's Highlights,Elementary,Free,High
 Schoolers,Memorial Day,Middle
 Schoolers,Outdoor,Parade,Parents,Preschoolers,Toddler
LOCATION:Downtown Ypsilanti\, 1 Huron St\, Ypsilanti\, Michigan\, 48197\, Y
 psilanti\, United States
GEO:42.2407765;-83.61284969999997
X-APPLE-STRUCTURED-LOCATION;VALUE=URI;X-ADDRESS=1 Huron St\, Ypsilanti\, Mi
 chigan\, 48197\, Ypsilanti\, United States;X-APPLE-RADIUS=100;X-TITLE=Down
 town Ypsilanti:geo:42.2407765,-83.61284969999997
END:VEVENT
BEGIN:VTIMEZONE
TZID:America/Detroit
X-LIC-LOCATION:America/Detroit
BEGIN:DAYLIGHT
DTSTART:20250309T030000
TZOFFSETFROM:-0500
TZOFFSETTO:-0400
TZNAME:EDT
END:DAYLIGHT
END:VTIMEZONE
END:VCALENDAR