BEGIN:VCALENDAR
VERSION:2.0
PRODID:-//wp-events-plugin.com//7.2.3.1//EN
TZID:America/Detroit
X-WR-TIMEZONE:America/Detroit
BEGIN:VEVENT
UID:37647@annarborwithkids.com
DTSTART;TZID=America/Detroit:20250704T110000
DTEND;TZID=America/Detroit:20250704T120000
DTSTAMP:20250617T183546Z
URL:https://annarborwithkids.com/events/ypsilanti-fourth-of-july-parade/
SUMMARY:Ypsilanti Fourth of July Parade
DESCRIPTION:\nThe Ypsilanti Fourth of July Parade is Michigan's oldest par
 ade celebrating their 96th year. The parade starts at 11a from the Ypsilan
 ti Water Tower and heads to Depot Town.\n\n\n\nAfter the previous parade o
 rganizers announced they were stepping down and there would not be a 2025 
 parade\, they found new organizers and two weeks later\, they announced th
 e parade was on!\n\n\n\nSee the announcement below for participant registr
 ation and to volunteer to assist with the parade.\n\n\n\n\nhttps://www.fac
 ebook.com/YpsiParade/posts/pfbid02Zk67wqJY1bXNBiHnRGgqR1N4ziqFM4Pa7nBtSmHK
 G2MTnNMkComdd9ARc8tVvdtHl?cft[0]=AZV_8lObLXYgCM90qGDWCKerls2u4EFH1NCdrPAV_
 owfHpo3FXVnbmfSN5eaUteFifOak9jr6TfsslbWKaC3lvf-ozFcWHzWARatoFOQobpeKMlWsHp
 pTT3yu-r9BkMkNrUHueYOxPdhIZPfK3DeJfJR7AwH803cVVRN796CjN9r_Q&amp\;tn=%2CO%2
 CP-R\n\n\n\n\n\n
CATEGORIES:Arbor Annie's Highlights,Elementary,Free,High
 Schoolers,Independence Day,Middle
 Schoolers,Outdoor,Parade,Parents,Preschoolers,Toddler
LOCATION:Depot Town\, Cross Street\, Ypsilanti\, Michigan\, 48198\, Ypsilan
 ti\, United States
GEO:42.2461462;-83.59825089999998
X-APPLE-STRUCTURED-LOCATION;VALUE=URI;X-ADDRESS=Cross Street\, Ypsilanti\, 
 Michigan\, 48198\, Ypsilanti\, United States;X-APPLE-RADIUS=100;X-TITLE=De
 pot Town:geo:42.2461462,-83.59825089999998
END:VEVENT
BEGIN:VTIMEZONE
TZID:America/Detroit
X-LIC-LOCATION:America/Detroit
BEGIN:DAYLIGHT
DTSTART:20250309T030000
TZOFFSETFROM:-0500
TZOFFSETTO:-0400
TZNAME:EDT
END:DAYLIGHT
END:VTIMEZONE
END:VCALENDAR