BEGIN:VCALENDAR
VERSION:2.0
PRODID:-//wp-events-plugin.com//7.2.3.1//EN
TZID:America/Detroit
X-WR-TIMEZONE:America/Detroit
BEGIN:VEVENT
UID:93847@annarborwithkids.com
DTSTART;TZID=America/Detroit:20260516T090000
DTEND;TZID=America/Detroit:20260516T130000
DTSTAMP:20260424T211016Z
URL:https://annarborwithkids.com/events/ypsilanti-farmers-market-2026-05-1
 6/
SUMMARY:Ypsilanti Farmers Market
DESCRIPTION:\nThe Ypsilanti&nbsp\;Farmers Markets is now on Tuesdays &amp\;
  Saturdays with both markets held at the Farmers Market Place Hall\n\n\n\n
 \nSaturdays 9a-1p (May 16-October 31)\n\n\n\nTuesdays 3-7p (June 2-August 
 25)\n\n\n\nMini Markets at B-Cubed Bakery May 2 &amp\; 9\, July 4\, &amp\;
  November 7\n\n\n\n\nSpecial Event Days are:\n\n\n\n\nMay 16 - Opening Day
 \n\n\n\nJune 27 - Bike Day\n\n\n\nAugust 8 - National Farmers Market Week 
 Celebration\n\n\n\nSeptember 19 - Community Resource Fair\n\n\n\nOctober 3
 1 - Spooky Market\n\n\n\n\nConcert Days include:\n\n\n\n\nMay 16 - Shannon
  Lee\n\n\n\nMay 23 - Keith James\n\n\n\nJune 2 - Keith James\n\n\n\nJune 6
  - Approximata Clarinet Quintet\n\n\n\nJune 9 - Keith James\n\n\n\nJune 13
  -Kat Steih\n\n\n\nJune 16 - Keith James\n\n\n\nJune 20 - DJ Roy B Vocals\
 n\n\n\nJune 23 - Keith James\n\n\n\nJune 27 - Durt\n\n\n\nJune 30 - Keith 
 James\n\n\n\nJuly 7 - Keith James\n\n\n\nJuly 11 - The Revelators\n\n\n\nJ
 uly 25 - Gretchen Pleuss\n\n\n\nJuly 28 - Keith James\n\n\n\nAugust 1 - Ap
 proximata Clarinet Quintet\n\n\n\nAugust 4 - Keith James\n\n\n\nAugust 8 -
  DJ Roy B Vocals\n\n\n\nAugust 11 - Keith James\n\n\n\nAugust 15 - Ann Arb
 or Symphony Orchestra\n\n\n\nAugust 18 - Keith James\n\n\n\nAugust 22 - Ke
 ith James\n\n\n\nAugust 25 - Keith James\n\n\n\nAugust 29 - Ann Arbor Symp
 hony Orchestra\n\n\n\nSeptember 5 - Keith James\n\n\n\nSeptember 12 - Keit
 h James\n\n\n\nSeptember 19 - Approximata Clarinet Quintet\n\n\n\nSeptembe
 r 26 - Keith James\n\n\n\nOctober 3 - Keith James\n\n\n\nOctober 10 - Keit
 h James\n\n\n\nOctober 17 - Keith James\n\n\n\nOctober 24 - Keith James\n\
 n\n\nOctober 31 - DJ Roy B Vocals\n\n\n\n\n\n
CATEGORIES:Babies,Elementary,Farmers Market,Food,Free,High
 Schoolers,Middle Schoolers,Parents,Preschoolers,Shopping,Toddler
LOCATION:Downtown Ypsilanti Farmers Market\, 16 South Washington\, Ypsilant
 i\, Michigan\, 48197\, Ypsilanti\, United States
GEO:42.240193;-83.61497
X-APPLE-STRUCTURED-LOCATION;VALUE=URI;X-ADDRESS=16 South Washington\, Ypsil
 anti\, Michigan\, 48197\, Ypsilanti\, United States;X-APPLE-RADIUS=100;X-T
 ITLE=Downtown Ypsilanti Farmers Market:geo:42.240193,-83.61497
END:VEVENT
BEGIN:VTIMEZONE
TZID:America/Detroit
X-LIC-LOCATION:America/Detroit
BEGIN:DAYLIGHT
DTSTART:20260308T030000
TZOFFSETFROM:-0500
TZOFFSETTO:-0400
TZNAME:EDT
END:DAYLIGHT
END:VTIMEZONE
END:VCALENDAR