BEGIN:VCALENDAR
VERSION:2.0
PRODID:-//wp-events-plugin.com//7.2.3.1//EN
TZID:America/Detroit
X-WR-TIMEZONE:America/Detroit
BEGIN:VEVENT
UID:85544@annarborwithkids.com
DTSTART;TZID=America/Detroit:20251025T090000
DTEND;TZID=America/Detroit:20251025T130000
DTSTAMP:20251017T005516Z
URL:https://annarborwithkids.com/events/ypsilanti-farmers-market-2025-10-2
 5/
SUMMARY:Spooky Market - Ypsilanti Farmers Market
DESCRIPTION:\nThe Ypsilanti Farmers Market will be celebrating the end of t
 he season and Halloween with a Spooky Market!\n\n\n\nDress up\, paint a pu
 mpkin\, and trick-or-treat through the market. Kids can enjoy crafts and g
 ames in the Kids Zone\, and everyone in costume can enter a special prize 
 drawing. Bring the whole family!\n\n\n\nAfter the market\, join them for a
  Community Harvest Party in the Market Hall from 1-4p.\n\n\n\nThe Ypsilant
 i&nbsp\;Farmers Markets is now on Saturdays only at the Farmers Market Pla
 ce Hall\n\n\n\n\nSaturdays 9a-1p  (May 3-October 25)\n\n\n\n\n\n\n\n\n\n\n
 \n
CATEGORIES:Arbor Annie's Highlights,Babies,Elementary,Farmers
 Market,Food,Free,Halloween,High Schoolers,Middle
 Schoolers,Parents,Preschoolers,Shopping,Toddler,Trick or Treat
LOCATION:Downtown Ypsilanti Farmers Market\, 16 South Washington\, Ypsilant
 i\, Michigan\, 48197\, Ypsilanti\, United States
GEO:42.240193;-83.61496999999997
X-APPLE-STRUCTURED-LOCATION;VALUE=URI;X-ADDRESS=16 South Washington\, Ypsil
 anti\, Michigan\, 48197\, Ypsilanti\, United States;X-APPLE-RADIUS=100;X-T
 ITLE=Downtown Ypsilanti Farmers Market:geo:42.240193,-83.61496999999997
END:VEVENT
BEGIN:VTIMEZONE
TZID:America/Detroit
X-LIC-LOCATION:America/Detroit
BEGIN:DAYLIGHT
DTSTART:20250309T030000
TZOFFSETFROM:-0500
TZOFFSETTO:-0400
TZNAME:EDT
END:DAYLIGHT
END:VTIMEZONE
END:VCALENDAR