BEGIN:VCALENDAR
VERSION:2.0
PRODID:-//wp-events-plugin.com//7.2.3.1//EN
TZID:America/Detroit
X-WR-TIMEZONE:America/Detroit
BEGIN:VEVENT
UID:62116@annarborwithkids.com
DTSTART;TZID=America/Detroit:20260529T163000
DTEND;TZID=America/Detroit:20260529T180000
DTSTAMP:20260324T175403Z
URL:https://annarborwithkids.com/events/youth-teen-clay-mugs/
SUMMARY:Family Friday: Clay Mugs
DESCRIPTION:\nCome downtown to the A2AC for a fun Friday night spent making
  your own clay cups. Your instructor will take participants step-by-step t
 hrough the design and implementation process\, demonstrating handbuilding 
 skills in the process. Once your mug is crafted\, you will use colorful sl
 ip to paint bold and bright designs of your choice. Each participant will 
 create one or two cups depending on design.\n\n\n\nThe workshop is for kid
 s ages 5+. Children must be accompanied by an adult. An adult who is just 
 helping their child does not need to register.\n\n\n\nAfter the event\, mu
 gs will be processed and fired in the kiln. They will be ready 4 or more w
 eeks after the event\n\n\n\n\n
CATEGORIES:Advance Registration,Arbor Annie's
 Highlights,Art,Crafts,Elementary,High Schoolers,Indoor Activities,Middle
 Schoolers,Parents,Registration Required,Sold Out
LOCATION:Ann Arbor Art Center\, 117 W. Liberty St\, Ann Arbor\, Michigan\, 
 48104\, Downtown\, United States
GEO:42.279384;-83.74955
X-APPLE-STRUCTURED-LOCATION;VALUE=URI;X-ADDRESS=117 W. Liberty St\, Ann Arb
 or\, Michigan\, 48104\, Downtown\, United States;X-APPLE-RADIUS=100;X-TITL
 E=Ann Arbor Art Center:geo:42.279384,-83.74955
END:VEVENT
BEGIN:VTIMEZONE
TZID:America/Detroit
X-LIC-LOCATION:America/Detroit
BEGIN:DAYLIGHT
DTSTART:20260308T030000
TZOFFSETFROM:-0500
TZOFFSETTO:-0400
TZNAME:EDT
END:DAYLIGHT
END:VTIMEZONE
END:VCALENDAR