BEGIN:VCALENDAR
VERSION:2.0
PRODID:-//wp-events-plugin.com//7.2.3.1//EN
TZID:America/Detroit
X-WR-TIMEZONE:America/Detroit
BEGIN:VEVENT
UID:93001@annarborwithkids.com
DTSTART;TZID=America/Detroit:20260420T103000
DTEND;TZID=America/Detroit:20260420T111500
DTSTAMP:20260311T170525Z
URL:https://annarborwithkids.com/events/yogurt-parfaits-on-a-budget/
SUMMARY:Yogurt Parfaits on a Budget
DESCRIPTION:\nCelebrate Michigan Financial Wellness Month at the library a 
 special storytime about saving\, budgeting\, and using math to spend money
 . Then\, use your smart money skills to help your preschooler build their 
 own yogurt parfait.\n\n\n\nEach child will receive a book\, provided by th
 e Michigan Financial Wellness Network.\n\n\n\nFor ages 3-6.\n\n\n\nRegistr
 ation is required.\n\n\n\n\n\n\n
CATEGORIES:Advance Registration,Arbor Annie's Highlights,Food,Free,Indoor
 Activities,Preschoolers,Registration Required,Storytime
LOCATION:Saline District Library\, 555 N. Maple Rd\, Saline\, Michigan\, 48
 176\, Saline\, United States
GEO:42.17779;-83.775429
X-APPLE-STRUCTURED-LOCATION;VALUE=URI;X-ADDRESS=555 N. Maple Rd\, Saline\, 
 Michigan\, 48176\, Saline\, United States;X-APPLE-RADIUS=100;X-TITLE=Salin
 e District Library:geo:42.17779,-83.775429
END:VEVENT
BEGIN:VTIMEZONE
TZID:America/Detroit
X-LIC-LOCATION:America/Detroit
BEGIN:DAYLIGHT
DTSTART:20260308T030000
TZOFFSETFROM:-0500
TZOFFSETTO:-0400
TZNAME:EDT
END:DAYLIGHT
END:VTIMEZONE
END:VCALENDAR