BEGIN:VCALENDAR
VERSION:2.0
PRODID:-//wp-events-plugin.com//7.2.3.1//EN
TZID:America/Detroit
X-WR-TIMEZONE:America/Detroit
BEGIN:VEVENT
UID:93359@annarborwithkids.com
DTSTART;TZID=America/Detroit:20260426T083000
DTEND;TZID=America/Detroit:20260426T093000
DTSTAMP:20260324T201029Z
URL:https://annarborwithkids.com/events/yoga-with-cats-2026-03-29-2026-04-
 05-2026-04-12-2026-04-19-2026-04-26/
SUMMARY:Yoga with Cats
DESCRIPTION:\nJoin Tiny Lions Cat Cafe to practice yoga with their furry fe
 line yoga masters! The hatha-style classes will help bring peace to your m
 ind and body\, while filling your heart with joy as you help support the a
 nimals in our community. \n\n\n\nSessions are for ages 12+ (teens ages 12
 -15 must be accompanied by an adult - 21+)\n\n\n\nClasses are offered most
  Sunday mornings 8:30am- 9:30am and Thursday evenings 7:30pm-8:30pm \n\n
 \n\nPrice:&nbsp\;$16 per person (non-refundable and non-transferable)&nbsp
 \;\n\n\n\nA changing area\, storage cubbies and mats are available for you
 r use. A limited amount of yoga blocks\, blankets and straps are available
  as well\, but please plan to bring any additional props you may need.&nbs
 p\;\n\n\n\n\n
CATEGORIES:Advance Registration,Animals,High Schoolers,Indoor
 Activities,Middle Schoolers,Parents,Registration Required,Yoga
LOCATION:Tiny Lions Lounge & Adoption Center\, 5245 Jackson Rd Suite A1\, A
 nn Arbor\, Michigan\, 48103\, West\, United States
GEO:42.2872607;-83.8339216
X-APPLE-STRUCTURED-LOCATION;VALUE=URI;X-ADDRESS=5245 Jackson Rd Suite A1\, 
 Ann Arbor\, Michigan\, 48103\, West\, United States;X-APPLE-RADIUS=100;X-T
 ITLE=Tiny Lions Lounge & Adoption Center:geo:42.2872607,-83.8339216
END:VEVENT
BEGIN:VTIMEZONE
TZID:America/Detroit
X-LIC-LOCATION:America/Detroit
BEGIN:DAYLIGHT
DTSTART:20260308T030000
TZOFFSETFROM:-0500
TZOFFSETTO:-0400
TZNAME:EDT
END:DAYLIGHT
END:VTIMEZONE
END:VCALENDAR