BEGIN:VCALENDAR
VERSION:2.0
PRODID:-//wp-events-plugin.com//7.2.3.1//EN
TZID:America/Detroit
X-WR-TIMEZONE:America/Detroit
BEGIN:VEVENT
UID:88091@annarborwithkids.com
DTSTART;TZID=America/Detroit:20250822T150000
DTEND;TZID=America/Detroit:20250822T180000
DTSTAMP:20250821T150530Z
URL:https://annarborwithkids.com/events/ycs-transportation-kick-off-fun-da
 y/
SUMMARY:YCS Transportation Kick-Off &amp\; Fun Day
DESCRIPTION:\nYpsilanti Community Schools Transportation Department is hold
 ing a Kick-Off and Fun Day.\n\n\n\nJoin them for \n\n\n\n\nMeet &amp\; Gre
 et Transportation Staff\n\n\n\nFree Food - Hot Dogs\, juice &amp\; chips f
 or YCS students\n\n\n\nBounce House\n\n\n\nMusic\n\n\n\nGames\n\n\n\nLocal
  Vendors\n\n\n\n\n\n\n\n\n\n
CATEGORIES:Arbor Annie's Highlights,Education,Elementary,Free,High
 Schoolers,Middle Schoolers,Outdoor
LOCATION:YCS Transportation Depot\, 1950 Holmes Rd\, Ypsilanti\, Michigan\,
  48198\, United States
GEO:42.252636;-83.57163
X-APPLE-STRUCTURED-LOCATION;VALUE=URI;X-ADDRESS=1950 Holmes Rd\, Ypsilanti\
 , Michigan\, 48198\, United States;X-APPLE-RADIUS=100;X-TITLE=YCS Transpor
 tation Depot:geo:42.252636,-83.57163
END:VEVENT
BEGIN:VTIMEZONE
TZID:America/Detroit
X-LIC-LOCATION:America/Detroit
BEGIN:DAYLIGHT
DTSTART:20250309T030000
TZOFFSETFROM:-0500
TZOFFSETTO:-0400
TZNAME:EDT
END:DAYLIGHT
END:VTIMEZONE
END:VCALENDAR