BEGIN:VCALENDAR
VERSION:2.0
PRODID:-//wp-events-plugin.com//7.2.3.1//EN
TZID:America/Detroit
X-WR-TIMEZONE:America/Detroit
BEGIN:VEVENT
UID:92867@annarborwithkids.com
DTSTART;TZID=America/Detroit:20260330T120000
DTEND;TZID=America/Detroit:20260330T140000
DTSTAMP:20260327T032346Z
URL:https://annarborwithkids.com/events/wild-kratts-party/
SUMMARY:Wild Kratts Party
DESCRIPTION:\nJoin AADL for Wild Kratts related crafts\, music\, and fun! T
 he Creature Conservancy will do a special presentation. This presentation 
 will run twice\, once from 12:00 to 12:45 and again from 1:15 to 2:00. For
  the safety of the animals and attendees\, this portion of the event has l
 imited seating.\n\n\n\nFor grades K-5. Held in Lower Level of Library.\n\n
 \n\n\n\n\n
CATEGORIES:Animals,Arbor Annie's Highlights,Elementary,Free,Indoor
 Activities
LOCATION:Downtown Branch of AADL\, 343 South Fifth Avenue\, Ann Arbor\, Mic
 higan\, 48104\, Downtown\, United States
GEO:42.278198;-83.745971
X-APPLE-STRUCTURED-LOCATION;VALUE=URI;X-ADDRESS=343 South Fifth Avenue\, An
 n Arbor\, Michigan\, 48104\, Downtown\, United States;X-APPLE-RADIUS=100;X
 -TITLE=Downtown Branch of AADL:geo:42.278198,-83.745971
END:VEVENT
BEGIN:VTIMEZONE
TZID:America/Detroit
X-LIC-LOCATION:America/Detroit
BEGIN:DAYLIGHT
DTSTART:20260308T030000
TZOFFSETFROM:-0500
TZOFFSETTO:-0400
TZNAME:EDT
END:DAYLIGHT
END:VTIMEZONE
END:VCALENDAR