BEGIN:VCALENDAR
VERSION:2.0
PRODID:-//wp-events-plugin.com//7.2.3.1//EN
TZID:America/Detroit
X-WR-TIMEZONE:America/Detroit
BEGIN:VEVENT
UID:90523@annarborwithkids.com
DTSTART;TZID=America/Detroit:20251126T130000
DTEND;TZID=America/Detroit:20251126T140000
DTSTAMP:20251105T185328Z
URL:https://annarborwithkids.com/events/wild-about-turkeys/
SUMMARY:Wild About Turkeys
DESCRIPTION:\nSnoods\, wattles\, and beards\, oh my! Get in the Thanksgivin
 g spirit and join us at the Kensington Nature Center for an exciting look 
 into the lives of Wild Turkeys! We'll take a deep dive into turkey adaptat
 ions and behavior\, play some Turkey Trivia\, and end the program with a s
 hort hike.\n\n\n\nFor ages 13+\n\n\n\nThis program starts indoors\, ends o
 utside. The outdoor time\, approximately 20 minutes\, will be spent on a l
 eisurely walk with frequent stops. Expect to walk about .5 miles. The even
 t will conclude at the Nature Center. The planned path is dirt and gravel\
 , mostly flat and level. No prior experience is necessary. For maximum enj
 oyment\, some of the time will require all participants to patiently remai
 n quiet and listen closely.\n\n\n\n\n\n\n
CATEGORIES:Advance Registration,Animals,Arbor Annie's Highlights,High
 Schoolers,Middle Schoolers,Nature,Parents,Registration
 Required,Thanksgiving
LOCATION:Kensington Metropark Nature Center\, 4570 Huron River Parkway\, Mi
 lford\, Michigan\, 48380\, Milford\, United States
GEO:42.527705;-83.639002
X-APPLE-STRUCTURED-LOCATION;VALUE=URI;X-ADDRESS=4570 Huron River Parkway\, 
 Milford\, Michigan\, 48380\, Milford\, United States;X-APPLE-RADIUS=100;X-
 TITLE=Kensington Metropark Nature Center:geo:42.527705,-83.639002
END:VEVENT
BEGIN:VTIMEZONE
TZID:America/Detroit
X-LIC-LOCATION:America/Detroit
BEGIN:STANDARD
DTSTART:20251102T010000
TZOFFSETFROM:-0400
TZOFFSETTO:-0500
TZNAME:EST
END:STANDARD
END:VTIMEZONE
END:VCALENDAR