BEGIN:VCALENDAR
VERSION:2.0
PRODID:-//wp-events-plugin.com//7.2.3.1//EN
TZID:America/Detroit
X-WR-TIMEZONE:America/Detroit
BEGIN:VEVENT
UID:93347@annarborwithkids.com
DTSTART;TZID=America/Detroit:20260530T140000
DTEND;TZID=America/Detroit:20260530T150000
DTSTAMP:20260324T191406Z
URL:https://annarborwithkids.com/events/wild-about-dad-kids-painting-party
 /
SUMMARY:Wild About Dad - Kids Painting pARTy
DESCRIPTION:\nKids will love painting a gentle gorilla carrying his baby on
  his back\, symbolizing strength\, love\, and protection! As they explore 
 color and creativity\, children will create a heartfelt masterpiece that m
 akes the perfect Father’s Day gift for dad\, grandpa\, or another spec
 ial guy in their life. A complimentary treat for all!\n\n\n\nFor ages 5-1
 2.\n\n\n\nMake sure to wear old clothing or a smock. \n\n\n\n\n
CATEGORIES:Advance Registration,Arbor Annie's
 Highlights,Art,Classes,Crafts,Elementary,Father's Day,Indoor
 Activities,Registration Required
LOCATION:Whitepine Studios\, 141 E Michigan Avenue\, Suite B\, Saline\, Mic
 higan\, 48176\, United States
GEO:42.167252;-83.780757
X-APPLE-STRUCTURED-LOCATION;VALUE=URI;X-ADDRESS=141 E Michigan Avenue\, Sui
 te B\, Saline\, Michigan\, 48176\, United States;X-APPLE-RADIUS=100;X-TITL
 E=Whitepine Studios:geo:42.167252,-83.780757
END:VEVENT
BEGIN:VTIMEZONE
TZID:America/Detroit
X-LIC-LOCATION:America/Detroit
BEGIN:DAYLIGHT
DTSTART:20260308T030000
TZOFFSETFROM:-0500
TZOFFSETTO:-0400
TZNAME:EDT
END:DAYLIGHT
END:VTIMEZONE
END:VCALENDAR