BEGIN:VCALENDAR
VERSION:2.0
PRODID:-//wp-events-plugin.com//7.2.3.1//EN
TZID:America/Detroit
X-WR-TIMEZONE:America/Detroit
BEGIN:VEVENT
UID:32477@annarborwithkids.com
DTSTART;TZID=America/Detroit:20250704T100000
DTEND;TZID=America/Detroit:20250704T100000
DTSTAMP:20250617T175741Z
URL:https://annarborwithkids.com/events/whitmore-lake-fourth-july-parade/
SUMMARY:Whitmore Lake Fourth of July Parade
DESCRIPTION:\nHead to Whitmore Lake for their Fourth of July Parade. \n\n\n
 \nThis year's theme is Celebrate Stars &amp\; Stripes. \n\n\n\nWant to joi
 n the parade? They are calling for participants to decorate bikes and ride
  with your family and friends\, ride in a classic car or not so classic\, 
 wear a Halloween costume or anything festive and fun!. Bring your creativi
 ty\, community spirit\, and patriotic pride. Sign-up now to participate\n\
 n\n
CATEGORIES:Arbor Annie's Highlights,Elementary,Free,High
 Schoolers,Independence Day,Middle
 Schoolers,Parade,Parents,Preschoolers,Toddler
LOCATION:Whitmore Lake\, Whitmore Lake\, Whitmore Lake\, Michigan\, Whitmor
 e Lake\, United States
GEO:42.4276196;-83.7544403
X-APPLE-STRUCTURED-LOCATION;VALUE=URI;X-ADDRESS=Whitmore Lake\, Whitmore La
 ke\, Michigan\, Whitmore Lake\, United States;X-APPLE-RADIUS=100;X-TITLE=W
 hitmore Lake:geo:42.4276196,-83.7544403
END:VEVENT
BEGIN:VTIMEZONE
TZID:America/Detroit
X-LIC-LOCATION:America/Detroit
BEGIN:DAYLIGHT
DTSTART:20250309T030000
TZOFFSETFROM:-0500
TZOFFSETTO:-0400
TZNAME:EDT
END:DAYLIGHT
END:VTIMEZONE
END:VCALENDAR