BEGIN:VCALENDAR
VERSION:2.0
PRODID:-//wp-events-plugin.com//7.2.3.1//EN
TZID:America/Detroit
X-WR-TIMEZONE:America/Detroit
BEGIN:VEVENT
UID:93997@annarborwithkids.com
DTSTART;TZID=America/Detroit:20260816T100000
DTEND;TZID=America/Detroit:20260816T140000
DTSTAMP:20260424T210801Z
URL:https://annarborwithkids.com/events/whitmore-lake-farmers-market-2026-
 06-07-2026-06-14-2026-06-21-2026-06-28-2026-07-05-2026-07-12-2026-07-19-20
 26-07-26-2026-08-02-2026-08-09-2026-08-16/
SUMMARY:Whitmore Lake Farmers Market
DESCRIPTION:\nThe Whitmore Lake Farmers Market is back for its fourth seaso
 n. The market is held at Northfield Community Park\n\n\n\n\n\n\n\n\n
CATEGORIES:Elementary,Farmers Market,Food,Free,High Schoolers,Middle
 Schoolers,Music/Concerts,Outdoor,Parents,Preschoolers,Toddler
LOCATION:Northfield Community Park\, 9725 N. Main Street\, Whitmore Lake\, 
 Michigan\, 48189\, Whitmore Lake\, United States
GEO:42.4249745;-83.76442299999997
X-APPLE-STRUCTURED-LOCATION;VALUE=URI;X-ADDRESS=9725 N. Main Street\, Whitm
 ore Lake\, Michigan\, 48189\, Whitmore Lake\, United States;X-APPLE-RADIUS
 =100;X-TITLE=Northfield Community Park:geo:42.4249745,-83.76442299999997
END:VEVENT
BEGIN:VTIMEZONE
TZID:America/Detroit
X-LIC-LOCATION:America/Detroit
BEGIN:DAYLIGHT
DTSTART:20260308T030000
TZOFFSETFROM:-0500
TZOFFSETTO:-0400
TZNAME:EDT
END:DAYLIGHT
END:VTIMEZONE
END:VCALENDAR