BEGIN:VCALENDAR
VERSION:2.0
PRODID:-//wp-events-plugin.com//7.2.3.1//EN
TZID:America/Detroit
X-WR-TIMEZONE:America/Detroit
BEGIN:VEVENT
UID:67252@annarborwithkids.com
DTSTART;TZID=America/Detroit:20251025T130000
DTEND;TZID=America/Detroit:20251025T150000
DTSTAMP:20251009T193027Z
URL:https://annarborwithkids.com/events/westgate-trick-or-treat/
SUMMARY:Westgate Trick or Treat
DESCRIPTION:\nSylvan Factory Games &amp\; The Little Seedling are coordinat
 ing Trick or Treating at Westgate on Saturday\, October 25 from 1-3p.\n\n\
 n\nThere will be a flyer in the window of participating shops that day. \n
 \n\n\n\n\n\n\n\n
CATEGORIES:Arbor Annie's Highlights,Elementary,Free,Halloween,Middle
 Schoolers,Parents,Preschoolers,Shopping,Toddler,Trick or Treat
LOCATION:Sylvan Factory Games\, 2459 W Stadium Blvd\, Ann Arbor\, Michigan\
 , 48103\, West Ann Arbor\, United States
GEO:42.278557;-83.77981
X-APPLE-STRUCTURED-LOCATION;VALUE=URI;X-ADDRESS=2459 W Stadium Blvd\, Ann A
 rbor\, Michigan\, 48103\, West Ann Arbor\, United States;X-APPLE-RADIUS=10
 0;X-TITLE=Sylvan Factory Games:geo:42.278557,-83.77981
END:VEVENT
BEGIN:VTIMEZONE
TZID:America/Detroit
X-LIC-LOCATION:America/Detroit
BEGIN:DAYLIGHT
DTSTART:20250309T030000
TZOFFSETFROM:-0500
TZOFFSETTO:-0400
TZNAME:EDT
END:DAYLIGHT
END:VTIMEZONE
END:VCALENDAR