BEGIN:VCALENDAR
VERSION:2.0
PRODID:-//wp-events-plugin.com//7.2.3.1//EN
TZID:America/Detroit
X-WR-TIMEZONE:America/Detroit
BEGIN:VEVENT
UID:66163@annarborwithkids.com
DTSTART;TZID=America/Detroit:20260401T110000
DTEND;TZID=America/Detroit:20260401T120000
DTSTAMP:20260309T200538Z
URL:https://annarborwithkids.com/events/wendy-and-db-science-nature-songs-
 concert/
SUMMARY:Concert | Wendy and DB
DESCRIPTION:\nWendy &amp\; DB&nbsp\;visit AADL to share their catchy lyrics
 \, vocal harmonies\, and curiosity!&nbsp\; Dance along to guitar and ukule
 le as this 2023 Grammy-nominated children's music duo performs their origi
 nal songs.\n\n\n\nThe concert will be held in the first floor lobby.\n\n\n
 \nFor preschool-5th grade.\n\n\n\n\n
CATEGORIES:Arbor Annie's Highlights,Elementary,Free,High Schoolers,Indoor
 Activities,Middle Schoolers,Music/Concerts,Parents,Preschoolers
LOCATION:Downtown Branch of AADL\, 343 South Fifth Avenue\, Ann Arbor\, Mic
 higan\, 48104\, Downtown\, United States
GEO:42.278198;-83.745971
X-APPLE-STRUCTURED-LOCATION;VALUE=URI;X-ADDRESS=343 South Fifth Avenue\, An
 n Arbor\, Michigan\, 48104\, Downtown\, United States;X-APPLE-RADIUS=100;X
 -TITLE=Downtown Branch of AADL:geo:42.278198,-83.745971
END:VEVENT
BEGIN:VTIMEZONE
TZID:America/Detroit
X-LIC-LOCATION:America/Detroit
BEGIN:DAYLIGHT
DTSTART:20260308T030000
TZOFFSETFROM:-0500
TZOFFSETTO:-0400
TZNAME:EDT
END:DAYLIGHT
END:VTIMEZONE
END:VCALENDAR