BEGIN:VCALENDAR
VERSION:2.0
PRODID:-//wp-events-plugin.com//7.2.3.1//EN
TZID:America/Detroit
X-WR-TIMEZONE:America/Detroit
BEGIN:VEVENT
UID:83928@annarborwithkids.com
DTSTART;TZID=America/Detroit:20250913T160000
DTEND;TZID=America/Detroit:20250913T173000
DTSTAMP:20250829T191624Z
URL:https://annarborwithkids.com/events/wax-in-the-stacks-2/
SUMMARY:Wax In The Stacks - Show off Your Vinyl
DESCRIPTION:\nWelcome to "Wax in the Stacks\," a unique vinyl listening gro
 up hosted at the library! Each month\, we invite music lovers and curious 
 listeners to gather and explore a diverse range of genres. Dust off your c
 ollections\, bring your favorite records\, or simply come to listen and en
 joy the nostalgic crackle of vinyl.\n\n\n\nThe event is for teens &amp\; a
 dults.\n\n\n\nSeptember - Guilty PleasuresThe records you love... but mayb
 e don't admit to loving publicly.\n\n\n\nOctober - FreakshowGet into the H
 alloween spirit with weird\, wild\, and totally freaky albums.\n\n\n\nNove
 mber - Crown JewelsShow off the darlings of your collection. What are you 
 most proud of?\n
CATEGORIES:Arbor Annie's Highlights,Free,High Schoolers,Indoor
 Activities,Music/Concerts,Parents
LOCATION:Ypsilanti District Library - Michigan Ave Branch\, 229 West Michig
 an Avenue\, Ypsilanti\, Michigan\, 48197\, Ypsilanti\, United States
GEO:42.240746;-83.61565
X-APPLE-STRUCTURED-LOCATION;VALUE=URI;X-ADDRESS=229 West Michigan Avenue\, 
 Ypsilanti\, Michigan\, 48197\, Ypsilanti\, United States;X-APPLE-RADIUS=10
 0;X-TITLE=Ypsilanti District Library - Michigan Ave Branch:geo:42.240746,-
 83.61565
END:VEVENT
BEGIN:VTIMEZONE
TZID:America/Detroit
X-LIC-LOCATION:America/Detroit
BEGIN:DAYLIGHT
DTSTART:20250309T030000
TZOFFSETFROM:-0500
TZOFFSETTO:-0400
TZNAME:EDT
END:DAYLIGHT
END:VTIMEZONE
END:VCALENDAR