BEGIN:VCALENDAR
VERSION:2.0
PRODID:-//wp-events-plugin.com//7.2.3.1//EN
TZID:America/Detroit
X-WR-TIMEZONE:America/Detroit
BEGIN:VEVENT
UID:50145@annarborwithkids.com
DTSTART;TZID=America/Detroit:20190704T110000
DTEND;TZID=America/Detroit:20190704T140000
DTSTAMP:20200729T031500Z
URL:https://annarborwithkids.com/events/washtenaw-dairys-85th-year-celebra
 tion/
SUMMARY:Washtenaw Dairy's 85th Year Celebration
DESCRIPTION:Washtenaw Dairy is celebrating their 85th anniversary with a st
 reet party. There will be 8 awesome youth bands\, food for purchase and Da
 vid Zinn making chalk art.\n\nPurchases will be made by tickets which each
  cost $0.50.\n\nPlanned food options are hot dogs\, chips\, donut holes\, 
 ice cream\, root beer floats\, and more.\n\n&nbsp\;\n\n&nbsp\;
CATEGORIES:Arbor Annie's Highlights,Elementary,Food,High Schoolers,Middle
 Schoolers,Music/Concerts,Parents,Preschoolers,Toddler
LOCATION:Washtenaw Dairy\, 602 S. Ashley St\, Ann Arbor\, Mchigan\, 48103\,
  West\, United States
GEO:42.273895;-83.75039520000001
X-APPLE-STRUCTURED-LOCATION;VALUE=URI;X-ADDRESS=602 S. Ashley St\, Ann Arbo
 r\, Mchigan\, 48103\, West\, United States;X-APPLE-RADIUS=100;X-TITLE=Wash
 tenaw Dairy:geo:42.273895,-83.75039520000001
END:VEVENT
BEGIN:VTIMEZONE
TZID:America/Detroit
X-LIC-LOCATION:America/Detroit
BEGIN:DAYLIGHT
DTSTART:20190310T030000
TZOFFSETFROM:-0500
TZOFFSETTO:-0400
TZNAME:EDT
END:DAYLIGHT
END:VTIMEZONE
END:VCALENDAR