BEGIN:VCALENDAR
VERSION:2.0
PRODID:-//wp-events-plugin.com//7.2.3.1//EN
TZID:America/Detroit
X-WR-TIMEZONE:America/Detroit
BEGIN:VEVENT
UID:56158@annarborwithkids.com
DTSTART;TZID=America/Detroit:20260419T110000
DTEND;TZID=America/Detroit:20260419T160000
DTSTAMP:20260323T182207Z
URL:https://annarborwithkids.com/events/washtenaw-county-csa-fair/
SUMMARY:Gardening and Farm Fest
DESCRIPTION:\nJoin AADL for a daylong celebration of gardening\, nature\, a
 nd hands-on activities! Gardening &amp\; Farm Fest features artisans and f
 armers selling their wares\, along with representatives from local farms w
 ho offer CSAs (Community Supported Agriculture).\n\n\n\nLearn more about C
 SAs and sign up for a spring and/or summer CSA onsite. Special presentatio
 ns about a variety of nature-based topics will take place during the day.\
 n\n\n\nFor teens &amp\; adults. Related activities that day include:\n\n\n
 \n\n11a-4p Vendors\, Local Farms &amp\; Informational Tables - 1st Floor L
 obby\n\n\n\n12-12:45p - How to Grow Mushrooms Anywhere - 4th Floor Program
  Room - Teens-Adults\n\n\n\nnoon-1:30p - Heat Press Tote Bags - Secret Lab
  - Teens-Adults\n\n\n\nnoon-1:30p - DIY Refrigerator Magnets - Secret Lab 
 - Kids-Adults\n\n\n\nnoon-3p - Seed Swap - Lower Level Program Room - Kids
 -Adults\n\n\n\nnoon-3:30p - Face Painting - Kids Story Corner - All Ages\n
 \n\n\n1:30-2:15p - Gardening with Deer - Adults\n\n\n\n3-3:45p - Learn abo
 ut Bonsai with Matthaei Botanical Gardens - 4th Floor Program Room - Teens
 -Adults\n\n\n\n\n\n
CATEGORIES:Arbor Annie's Highlights,Elementary,Food,Free,High
 Schoolers,Indoor Activities,Middle Schoolers,Parents,Shopping
LOCATION:Downtown Branch of AADL\, 343 South Fifth Avenue\, Ann Arbor\, Mic
 higan\, 48104\, Downtown\, United States
GEO:42.278198;-83.745971
X-APPLE-STRUCTURED-LOCATION;VALUE=URI;X-ADDRESS=343 South Fifth Avenue\, An
 n Arbor\, Michigan\, 48104\, Downtown\, United States;X-APPLE-RADIUS=100;X
 -TITLE=Downtown Branch of AADL:geo:42.278198,-83.745971
END:VEVENT
BEGIN:VTIMEZONE
TZID:America/Detroit
X-LIC-LOCATION:America/Detroit
BEGIN:DAYLIGHT
DTSTART:20260308T030000
TZOFFSETFROM:-0500
TZOFFSETTO:-0400
TZNAME:EDT
END:DAYLIGHT
END:VTIMEZONE
END:VCALENDAR