BEGIN:VCALENDAR
VERSION:2.0
PRODID:-//wp-events-plugin.com//7.2.3.1//EN
TZID:America/Detroit
X-WR-TIMEZONE:America/Detroit
BEGIN:VEVENT
UID:67202@annarborwithkids.com
DTSTART;TZID=America/Detroit:20251031T183000
DTEND;TZID=America/Detroit:20251031T183000
DTSTAMP:20250916T192016Z
URL:https://annarborwithkids.com/events/volloween-with-michigan-volleyball
 /
SUMMARY:Volloween with Michigan Volleyball
DESCRIPTION:\nHead to the Michigan Volleyball Game against Penn State for V
 olloween. Costumes\, Candy &amp\; Killer Serves! Fans are encouraged to dr
 ess up for a chance to win prizes.\n\n\n\nKeep your eye on the weather\, t
 his would be a fun alternative on a rainy Halloween!\n\n\n\nYou can get a 
 free admission ticket with your football ticket for the Nov 1 game vs Purd
 ue.\n\n\n\n\n
CATEGORIES:Advance Registration,Arbor Annie's
 Highlights,Elementary,Halloween,Indoor Activities,Middle
 Schoolers,Parents,Preschoolers,Sport,Trick or Treat
LOCATION:Crisler Center\, 333 E. Stadium Blvd\, Ann Arbor\, Michigan\, 4810
 9\, UM Campus\, United States
GEO:42.2649239;-83.74642879999999
X-APPLE-STRUCTURED-LOCATION;VALUE=URI;X-ADDRESS=333 E. Stadium Blvd\, Ann A
 rbor\, Michigan\, 48109\, UM Campus\, United States;X-APPLE-RADIUS=100;X-T
 ITLE=Crisler Center:geo:42.2649239,-83.74642879999999
END:VEVENT
BEGIN:VTIMEZONE
TZID:America/Detroit
X-LIC-LOCATION:America/Detroit
BEGIN:DAYLIGHT
DTSTART:20250309T030000
TZOFFSETFROM:-0500
TZOFFSETTO:-0400
TZNAME:EDT
END:DAYLIGHT
END:VTIMEZONE
END:VCALENDAR