BEGIN:VCALENDAR
VERSION:2.0
PRODID:-//wp-events-plugin.com//7.2.3.1//EN
TZID:America/Detroit
X-WR-TIMEZONE:America/Detroit
BEGIN:VEVENT
UID:91702@annarborwithkids.com
DTSTART;TZID=America/Detroit:20260214T100000
DTEND;TZID=America/Detroit:20260214T210000
DTSTAMP:20260123T180756Z
URL:https://annarborwithkids.com/events/valentines-day-at-launch/
SUMMARY:Valentine's Day at Launch
DESCRIPTION:\nLove is in the air at Launch!\n\n\n\nLooking for a fun way to
  celebrate Valentine's Day with your Boo? Launch has the perfect option fo
 r you!Join them Saturday\, February 14th for an UNFORGETTABLE Valentine's 
 Day Special!\n\n\n\n$40 per pair (2 people per ticket)\n\n\n\nTickets incl
 ude:\n\n\n\n\n2 hours of jump\n\n\n\n2 twenty credit arcade cards\n\n\n\n1
  10 inch 1-topping pizza\n\n\n\n2 drinks\n\n\n\n2 pairs of our Launch grip
  socks\n\n\n\n\nThis offer is available all day! Purchase your tickets in 
 advance and join them for a lovely time at Launch! There's really nothing 
 more romantic.\n\n\n\n\n\n\n
CATEGORIES:Advance Registration,Arbor Annie's
 Highlights,Elementary,Fitness/Health,Food,High Schoolers,Indoor
 Activities,Middle Schoolers,Parents,Preschoolers,Toddler,Valentine's Day
LOCATION:Launch Trampoline\, 800 W Eisenhower Parkway\, Ann Arbor\, Michiga
 n\, 48103\, United States
GEO:42.246181;-83.756183
X-APPLE-STRUCTURED-LOCATION;VALUE=URI;X-ADDRESS=800 W Eisenhower Parkway\, 
 Ann Arbor\, Michigan\, 48103\, United States;X-APPLE-RADIUS=100;X-TITLE=La
 unch Trampoline:geo:42.246181,-83.756183
END:VEVENT
BEGIN:VTIMEZONE
TZID:America/Detroit
X-LIC-LOCATION:America/Detroit
BEGIN:STANDARD
DTSTART:20251102T010000
TZOFFSETFROM:-0400
TZOFFSETTO:-0500
TZNAME:EST
END:STANDARD
END:VTIMEZONE
END:VCALENDAR