BEGIN:VCALENDAR
VERSION:2.0
PRODID:-//wp-events-plugin.com//7.2.3.1//EN
TZID:America/Detroit
X-WR-TIMEZONE:America/Detroit
BEGIN:VEVENT
UID:93032@annarborwithkids.com
DTSTART;TZID=America/Detroit:20260331T140000
DTEND;TZID=America/Detroit:20260331T160000
DTSTAMP:20260312T152431Z
URL:https://annarborwithkids.com/events/undergraduate-research-showcase/
SUMMARY:Undergraduate Research Showcase
DESCRIPTION:\nMeet U-M students and participate in engaging\, hands-on acti
 vities to learn about their research in cell biology\, neurology\, ecology
 \, and more! Held during public school spring break\, this mini showcase w
 ill feature several undergraduate students from a Science Outreach course 
 taught by U-M Museum of Natural History staff.\n\n\n\n\n\n\n\n\n
CATEGORIES:Arbor Annie's Highlights,Elementary,Free,High Schoolers,Indoor
 Activities,Middle Schoolers,Parents,Preschoolers,STEM
LOCATION:University of Michigan Museum of Natural History\, 1105 North Univ
 ersity Avenue\, Ann Arbor\, Michigan\, 48109\, University of Michigan\, Un
 ited States
GEO:42.2782584;-83.73462870000003
X-APPLE-STRUCTURED-LOCATION;VALUE=URI;X-ADDRESS=1105 North University Avenu
 e\, Ann Arbor\, Michigan\, 48109\, University of Michigan\, United States;
 X-APPLE-RADIUS=100;X-TITLE=University of Michigan Museum of Natural Histor
 y:geo:42.2782584,-83.73462870000003
END:VEVENT
BEGIN:VTIMEZONE
TZID:America/Detroit
X-LIC-LOCATION:America/Detroit
BEGIN:DAYLIGHT
DTSTART:20260308T030000
TZOFFSETFROM:-0500
TZOFFSETTO:-0400
TZNAME:EDT
END:DAYLIGHT
END:VTIMEZONE
END:VCALENDAR