BEGIN:VCALENDAR
VERSION:2.0
PRODID:-//wp-events-plugin.com//7.2.3.1//EN
TZID:America/Detroit
X-WR-TIMEZONE:America/Detroit
BEGIN:VEVENT
UID:24308@annarborwithkids.com
DTSTART;TZID=America/Detroit:20260119T080000
DTEND;TZID=America/Detroit:20260119T150000
DTSTAMP:20260106T205925Z
URL:https://annarborwithkids.com/events/um-mlk-children-youth-day-3/
SUMMARY:UM MLK Children & Youth Day
DESCRIPTION:\nJoin University of Michigan to celebrate the life &amp\; lega
 cy of Dr. Martin Luther King\, Jr. \n\n\n\nJoin the&nbsp\;University of Mi
 chigan's Marsal Family School of Education's Martin Luther King Jr. Childr
 en and Youth Program! This incredible event will be held in the University
  of Michigan's School of Education Building at&nbsp\;610 East University A
 venue\, Ann Arbor\, MI\, USA. It's a fantastic opportunity for children an
 d youth in grades Pre-Kindergarten-12 to learn\, engage\, and celebrate th
 e legacy of Dr. Martin Luther King Jr. through fun and educational activit
 ies.\n\n\n\nThroughout these memorable years\, these activities have been 
 filled with fun\, creativity\, dialogue\, and entertainment and included s
 torytelling\, guided discussions and group projects\, skits\, rap poetry\,
  and various musical performances. The program is facilitated by capable a
 dults\, many of whom are professional educators\, youth workers\, or stude
 nts in the Marsal Family School of Education at the University of Michigan
  who have experience working with children or who are preparing to become 
 teachers.\n\n\n\nPlease note:&nbsp\;A parent or guardian must attend with 
 their pre-kindergarteners.\n\n\n\nLunch (Cheese Pizza from Dominos\, bottl
 ed water\, and nut-free snacks) are provided. Please contact them with die
 tary restrictions - they can provide gluten free and/or dairy free pizza i
 f notified by 1/13)\n\n\n\nMore information and registration can be found 
 on their Eventbrite listing.\n\n\n\n\n
CATEGORIES:Advance Registration,Arbor Annie's
 Highlights,BIPOC,Classes,Education,Elementary,Free,High Schoolers,Indoor
 Activities,Middle Schoolers,Preschoolers,Registration Required
LOCATION:U of M School of Education\, 610 E. University \, Ann Arbor\, Mich
 igan\, 48109\, UofM Campus\, United States
GEO:42.2738721;-83.73640360000002
X-APPLE-STRUCTURED-LOCATION;VALUE=URI;X-ADDRESS=610 E. University \, Ann Ar
 bor\, Michigan\, 48109\, UofM Campus\, United States;X-APPLE-RADIUS=100;X-
 TITLE=U of M School of Education:geo:42.2738721,-83.73640360000002
END:VEVENT
BEGIN:VTIMEZONE
TZID:America/Detroit
X-LIC-LOCATION:America/Detroit
BEGIN:STANDARD
DTSTART:20251102T010000
TZOFFSETFROM:-0400
TZOFFSETTO:-0500
TZNAME:EST
END:STANDARD
END:VTIMEZONE
END:VCALENDAR