BEGIN:VCALENDAR
VERSION:2.0
PRODID:-//wp-events-plugin.com//7.2.3.1//EN
TZID:America/Detroit
X-WR-TIMEZONE:America/Detroit
BEGIN:VEVENT
UID:67185@annarborwithkids.com
DTSTART;TZID=America/Detroit:20251122T100000
DTEND;TZID=America/Detroit:20251122T120000
DTSTAMP:20251105T190006Z
URL:https://annarborwithkids.com/events/turkey-vulture-stakeout/
SUMMARY:Turkey Time Trek
DESCRIPTION:\nThanksgiving is right around the corner so prepare to wow you
 r friends and family with facts about the upcoming holiday! Join Lake Erie
  Metropark to hit the trails for a leisurely walk with frequent stops and 
 learn about the feasting holiday.\n\n\n\n\n\nFor all ages. \n\n\n\nCost: $
 3 per child\, $5 per adult\; children under 2 are Free!\n\n\n\nThis progra
 m is entirely outdoors. The time\, approximately 120 minutes\, will be spe
 nt on a leisurely walk with frequent stops. We will conclude at the Lake E
 rie Marshlands Museum. The planned path surface is dirt and gravel\, mostl
 y flat and level.\n\n\n\nPreregistration required by 4p the day before the
  event.\n\n\n
CATEGORIES:Advance Registration,Animals,Arbor Annie's
 Highlights,Elementary,High Schoolers,Hikes/Walks,Middle
 Schoolers,Outdoor,Parents,Preschoolers,Thanksgiving,Toddler
LOCATION:Lake Erie Metropark\, 32481 West Jefferson Avenue\, Brownstown\, M
 ichigan\, 48173\, United States
GEO:42.070504;-83.210829
X-APPLE-STRUCTURED-LOCATION;VALUE=URI;X-ADDRESS=32481 West Jefferson Avenue
 \, Brownstown\, Michigan\, 48173\, United States;X-APPLE-RADIUS=100;X-TITL
 E=Lake Erie Metropark:geo:42.070504,-83.210829
END:VEVENT
BEGIN:VTIMEZONE
TZID:America/Detroit
X-LIC-LOCATION:America/Detroit
BEGIN:STANDARD
DTSTART:20251102T010000
TZOFFSETFROM:-0400
TZOFFSETTO:-0500
TZNAME:EST
END:STANDARD
END:VTIMEZONE
END:VCALENDAR