BEGIN:VCALENDAR
VERSION:2.0
PRODID:-//wp-events-plugin.com//7.2.3.1//EN
TZID:America/Detroit
X-WR-TIMEZONE:America/Detroit
BEGIN:VEVENT
UID:82499@annarborwithkids.com
DTSTART;TZID=America/Detroit:20251122T090000
DTEND;TZID=America/Detroit:20251122T120000
DTSTAMP:20250828T182514Z
URL:https://annarborwithkids.com/events/turkey-trails-ypsilanti-mi/
SUMMARY:Turkey Trails - Ann Arbor
DESCRIPTION:\nJoin the annual Turkey Trails 5k/10k! A fun\, Thanksgiving-th
 emed event that is perfect for the whole family.\n\n\n\nThe fun includes 
 –Great Swag – designer shirt &amp\; custom medalChip-timing with live 
 results and awardsFree photosDelicious Treats waiting at the finish linePl
 enty of fun!\n\n\n\nGrab your friends and family\, you are not going to wa
 nt to miss this one!\n\n\n\nCan’t make the race? No problem! They offer 
 a virtual race option where you can run anywhere\, at any time\, and still
  earn the fun swag!\n\n\n\n*Youth-based pricing for the 5k/10k\, 12 &amp\;
  Under are only $17\n\n\n\n5k/10k registration includes a custom bib\, des
 igner shirt\, and awesome finisher medal!1 Mile registration includes a cu
 stom bib\, designer shirt and a finisher medal!The kid’s dash is a fun\,
  untimed dash for kiddos ages 10 and under. Registration includes a mini b
 ib\, youth-sized shirt\, and special kids medal! (If your child wants to r
 un the kid’s dash\, and doesn’t want the SWAG\, they are welcome to ru
 n with us on race day for free!)\n\n\n\n*Register by midnight two Thursday
  BEFORE the race to be guaranteed a shirt\n\n\n\n\n\n\n\n\n\nGet Your Turk
 ey Trot Gear!\n\n\n\n\n
CATEGORIES:Advance Registration,Arbor Annie's Highlights,Elementary,Fall
 Fun,Fitness/Health,Food,High Schoolers,Middle
 Schoolers,Outdoor,Parents,Race,Sport,Thanksgiving
LOCATION:Kensington Metropark\, 4570 Huron River Parkway\, Milford\, Michig
 an\, 48381\, Beyond Washtenaw\, United States
GEO:42.528995;-83.637566
X-APPLE-STRUCTURED-LOCATION;VALUE=URI;X-ADDRESS=4570 Huron River Parkway\, 
 Milford\, Michigan\, 48381\, Beyond Washtenaw\, United States;X-APPLE-RADI
 US=100;X-TITLE=Kensington Metropark:geo:42.528995,-83.637566
END:VEVENT
BEGIN:VTIMEZONE
TZID:America/Detroit
X-LIC-LOCATION:America/Detroit
BEGIN:STANDARD
DTSTART:20251102T010000
TZOFFSETFROM:-0400
TZOFFSETTO:-0500
TZNAME:EST
END:STANDARD
END:VTIMEZONE
END:VCALENDAR