BEGIN:VCALENDAR
VERSION:2.0
PRODID:-//wp-events-plugin.com//7.2.3.1//EN
TZID:America/Detroit
X-WR-TIMEZONE:America/Detroit
BEGIN:VEVENT
UID:35330@annarborwithkids.com
DTSTART;TZID=America/Detroit:20251022T183000
DTEND;TZID=America/Detroit:20251022T203000
DTSTAMP:20250905T200637Z
URL:https://annarborwithkids.com/events/trunk-treat-zombie-crawl/
SUMMARY:Trunk-or-Treat
DESCRIPTION:\nTrunk or Treat is back for the 8th year. All families are wel
 come for accessible and safe trick or treating. This event takes place in 
 the Key Bank Parking Lot on West Michigan Avenue\, and on West McKay Stre
 et.\n\n\n\nEntertainment is provided by Ring of Steel and Throw Your Hands
  Up DJ.\n\n\n\nCandy can be traded for small toys and novelties to address
  any allergy concerns at the Teal Table (generously sponsored by Kyocera).
 &nbsp\;\n\n\n\n\n\n\n\n\n
CATEGORIES:Arbor Annie's
 Highlights,Babies,Elementary,Free,Halloween,Middle
 Schoolers,Parents,Preschoolers,Toddler,Trick or Treat
LOCATION:KeyBank\, 100 W. Michigan Ave\, Saline\, Michigan\, 48176\, Saline
 \, United States
GEO:42.1668211;-83.78175679999998
X-APPLE-STRUCTURED-LOCATION;VALUE=URI;X-ADDRESS=100 W. Michigan Ave\, Salin
 e\, Michigan\, 48176\, Saline\, United States;X-APPLE-RADIUS=100;X-TITLE=K
 eyBank:geo:42.1668211,-83.78175679999998
END:VEVENT
BEGIN:VTIMEZONE
TZID:America/Detroit
X-LIC-LOCATION:America/Detroit
BEGIN:DAYLIGHT
DTSTART:20250309T030000
TZOFFSETFROM:-0500
TZOFFSETTO:-0400
TZNAME:EDT
END:DAYLIGHT
END:VTIMEZONE
END:VCALENDAR