BEGIN:VCALENDAR
VERSION:2.0
PRODID:-//wp-events-plugin.com//7.2.3.1//EN
TZID:America/Detroit
X-WR-TIMEZONE:America/Detroit
BEGIN:VEVENT
UID:43066@annarborwithkids.com
DTSTART;TZID=America/Detroit:20251026T150000
DTEND;TZID=America/Detroit:20251026T163000
DTSTAMP:20251022T182048Z
URL:https://annarborwithkids.com/events/trunk-or-treat-with-st-paul-luther
 an-school/
SUMMARY:Trunk or Treat with St Paul Lutheran School
DESCRIPTION:\nSt Paul Lutheran School is holding their annual Trunk or Trea
 t. Stop by for some Halloween fun in the SPAA School Parking lot.\n\n\n\n\
 n\n\n\n\n
CATEGORIES:Arbor Annie's
 Highlights,Elementary,Free,Halloween,Preschoolers,Toddler
LOCATION:St Paul Lutheran School\, 495 Earhart Rd\, Ann Arbor\, Michigan\, 
 48105\, North\, United States
GEO:42.28060019999999;-83.68412160000003
X-APPLE-STRUCTURED-LOCATION;VALUE=URI;X-ADDRESS=495 Earhart Rd\, Ann Arbor\
 , Michigan\, 48105\, North\, United States;X-APPLE-RADIUS=100;X-TITLE=St P
 aul Lutheran School:geo:42.28060019999999,-83.68412160000003
END:VEVENT
BEGIN:VTIMEZONE
TZID:America/Detroit
X-LIC-LOCATION:America/Detroit
BEGIN:DAYLIGHT
DTSTART:20250309T030000
TZOFFSETFROM:-0500
TZOFFSETTO:-0400
TZNAME:EDT
END:DAYLIGHT
END:VTIMEZONE
END:VCALENDAR