BEGIN:VCALENDAR
VERSION:2.0
PRODID:-//wp-events-plugin.com//7.2.3.1//EN
TZID:America/Detroit
X-WR-TIMEZONE:America/Detroit
BEGIN:VEVENT
UID:80848@annarborwithkids.com
DTSTART;TZID=America/Detroit:20251026T160000
DTEND;TZID=America/Detroit:20251026T180000
DTSTAMP:20251001T215219Z
URL:https://annarborwithkids.com/events/trunk-or-treat-at-revel-run/
SUMMARY:Trunk or Treat at Revel Run
DESCRIPTION:\nJoin Revel Run for a TRUNK OR TREAT a the Foxhole Biergarten!
   Bring the kids to gather treats. Or decorate your trunk\, hand out cand
 y\, or set up a table/tent to join in the fun. Kids will get to trick-or-t
 reat from car to car in a safe &amp\; festive spot.\n\n\n\n\n\n\n\n\n
CATEGORIES:Arbor Annie's Highlights,Elementary,Free,Halloween,Middle
 Schoolers,Outdoor,Parents,Preschoolers,Toddler,Trick or Treat
LOCATION:Revel Run\, 555 Dancer Rd\, Chelsea\, Michigan\, 48118\, United St
 ates
GEO:42.277931;-83.93158
X-APPLE-STRUCTURED-LOCATION;VALUE=URI;X-ADDRESS=555 Dancer Rd\, Chelsea\, M
 ichigan\, 48118\, United States;X-APPLE-RADIUS=100;X-TITLE=Revel Run:geo:4
 2.277931,-83.93158
END:VEVENT
BEGIN:VTIMEZONE
TZID:America/Detroit
X-LIC-LOCATION:America/Detroit
BEGIN:DAYLIGHT
DTSTART:20250309T030000
TZOFFSETFROM:-0500
TZOFFSETTO:-0400
TZNAME:EDT
END:DAYLIGHT
END:VTIMEZONE
END:VCALENDAR