BEGIN:VCALENDAR
VERSION:2.0
PRODID:-//wp-events-plugin.com//7.2.3.1//EN
TZID:America/Detroit
X-WR-TIMEZONE:America/Detroit
BEGIN:VEVENT
UID:53905@annarborwithkids.com
DTSTART;TZID=America/Detroit:20251019T140000
DTEND;TZID=America/Detroit:20251019T170000
DTSTAMP:20251009T184909Z
URL:https://annarborwithkids.com/events/trunk-or-treat-3/
SUMMARY:Trunk or Treat
DESCRIPTION:\nNorthfield Township Parks &amp\; Recreation is switching thin
 gs up this year. Instead of a Trunk or Treat\, they're hosting a trick or 
 treat trail. \n\n\n\n\n\n\n\nThere will also be music\, games\, crafts\, a
  bonfire\, marshmallow toasting &amp\; more.\n\n\n\n\n\n\n\n\n
CATEGORIES:Arbor Annie's Highlights,Elementary,Free,Games,Halloween,Middle
 Schoolers,Parents,Preschoolers,Toddler,Vehicles
LOCATION:Northfield Community Park\, 9725 N. Main Street\, Whitmore Lake\, 
 Michigan\, 48189\, Whitmore Lake\, United States
GEO:42.4249745;-83.76442299999997
X-APPLE-STRUCTURED-LOCATION;VALUE=URI;X-ADDRESS=9725 N. Main Street\, Whitm
 ore Lake\, Michigan\, 48189\, Whitmore Lake\, United States;X-APPLE-RADIUS
 =100;X-TITLE=Northfield Community Park:geo:42.4249745,-83.76442299999997
END:VEVENT
BEGIN:VTIMEZONE
TZID:America/Detroit
X-LIC-LOCATION:America/Detroit
BEGIN:DAYLIGHT
DTSTART:20250309T030000
TZOFFSETFROM:-0500
TZOFFSETTO:-0400
TZNAME:EDT
END:DAYLIGHT
END:VTIMEZONE
END:VCALENDAR