BEGIN:VCALENDAR
VERSION:2.0
PRODID:-//wp-events-plugin.com//7.2.3.1//EN
TZID:America/Detroit
X-WR-TIMEZONE:America/Detroit
BEGIN:VEVENT
UID:90199@annarborwithkids.com
DTSTART;TZID=America/Detroit:20251030T173000
DTEND;TZID=America/Detroit:20251030T193000
DTSTAMP:20251022T181732Z
URL:https://annarborwithkids.com/events/trunk-or-treat-21/
SUMMARY:Trunk or Treat
DESCRIPTION:\nBring your little ghosts and goblins for a night of sweet tre
 ats\, eats and spooky fun at The Kensington Hotel.\n\n\n\nThe trunk or tre
 at will be in the east parking lot by Relish Restaurant.\n\n\n\nThey will 
 have free hot dogs\, chips\, soda\, and hot chocolate.\n\n\n\n\n\n\n\n\n
CATEGORIES:Arbor Annie's
 Highlights,Elementary,Food,Halloween,Outdoor,Preschoolers,Toddler,Trick or
 Treat
LOCATION:Kensington Hotel\, 3500 South State Street\, Ann Arbor\, Michigan\
 , 48108\, United States
GEO:42.238447;-83.74141900000001
X-APPLE-STRUCTURED-LOCATION;VALUE=URI;X-ADDRESS=3500 South State Street\, A
 nn Arbor\, Michigan\, 48108\, United States;X-APPLE-RADIUS=100;X-TITLE=Ken
 sington Hotel:geo:42.238447,-83.74141900000001
END:VEVENT
BEGIN:VTIMEZONE
TZID:America/Detroit
X-LIC-LOCATION:America/Detroit
BEGIN:DAYLIGHT
DTSTART:20250309T030000
TZOFFSETFROM:-0500
TZOFFSETTO:-0400
TZNAME:EDT
END:DAYLIGHT
END:VTIMEZONE
END:VCALENDAR