BEGIN:VCALENDAR
VERSION:2.0
PRODID:-//wp-events-plugin.com//7.2.3.1//EN
TZID:America/Detroit
X-WR-TIMEZONE:America/Detroit
BEGIN:VEVENT
UID:89971@annarborwithkids.com
DTSTART;TZID=America/Detroit:20251022T170000
DTEND;TZID=America/Detroit:20251022T190000
DTSTAMP:20251007T165337Z
URL:https://annarborwithkids.com/events/trunk-or-treat-19/
SUMMARY:Trunk or Treat
DESCRIPTION:\nFree &amp\; Open to the Community!\n\n\n\nJoin Triangle Coope
 rative Preschool for a Trunk or Treat and open play on their playground. C
 andy\, goodies\, and an opportunity to win prizes as well!\n\n\n\n\n\n\n\n
 \n
CATEGORIES:Arbor Annie's
 Highlights,Elementary,Free,Halloween,Outdoor,Preschoolers,Toddler,Trick or
 Treat,User Submitted
LOCATION:Triangle Cooperative Nursery School in First Presbyterian Church\,
  1432 Washtenaw Ave. \, Ann Arbor\, MI\, 48104\, Campus\, United States
GEO:42.273508;-83.73077999999998
X-APPLE-STRUCTURED-LOCATION;VALUE=URI;X-ADDRESS=1432 Washtenaw Ave. \, Ann 
 Arbor\, MI\, 48104\, Campus\, United States;X-APPLE-RADIUS=100;X-TITLE=Tri
 angle Cooperative Nursery School in First Presbyterian Church:geo:42.27350
 8,-83.73077999999998
END:VEVENT
BEGIN:VTIMEZONE
TZID:America/Detroit
X-LIC-LOCATION:America/Detroit
BEGIN:DAYLIGHT
DTSTART:20250309T030000
TZOFFSETFROM:-0500
TZOFFSETTO:-0400
TZNAME:EDT
END:DAYLIGHT
END:VTIMEZONE
END:VCALENDAR