BEGIN:VCALENDAR
VERSION:2.0
PRODID:-//wp-events-plugin.com//7.2.3.1//EN
TZID:America/Detroit
X-WR-TIMEZONE:America/Detroit
BEGIN:VEVENT
UID:82538@annarborwithkids.com
DTSTART;TZID=America/Detroit:20241026T150000
DTEND;TZID=America/Detroit:20241026T170000
DTSTAMP:20251009T195517Z
URL:https://annarborwithkids.com/events/trunk-or-treat-17/
SUMMARY:Trunk or Treat
DESCRIPTION:\nPraise Community Church in Plymouth is holding a Trunk or Tre
 at.\n\n\n\nIt's a fun-filled afternoon at Praise Community Church’s Trun
 k or Treat! Bring the whole family and enjoy a safe and exciting Halloween
  event right in the parking lot. With creatively decorated trunks\, lots o
 f candy\, and plenty of smiles\, it’s the perfect way to celebrate the s
 eason. Come dressed in your favorite costume and get ready to make some gr
 eat memories!\n\n\n\n\n\n\n\n\n\n\n
ATTACH;FMTTYPE=image/jpeg:https://annarborwithkids.com/wp-content/uploads/
 Trunk-or-Treat-Facebook.jpeg
CATEGORIES:Free,Halloween,Outdoor,Trick or Treat
LOCATION:Praise Community Church\, 45000 N Territorial Rd\, Plymouth\, Mich
 igan\, 48170\, Plymouth\, United States
GEO:42.3771;-83.486816
X-APPLE-STRUCTURED-LOCATION;VALUE=URI;X-ADDRESS=45000 N Territorial Rd\, Pl
 ymouth\, Michigan\, 48170\, Plymouth\, United States;X-APPLE-RADIUS=100;X-
 TITLE=Praise Community Church:geo:42.3771,-83.486816
END:VEVENT
BEGIN:VTIMEZONE
TZID:America/Detroit
X-LIC-LOCATION:America/Detroit
BEGIN:DAYLIGHT
DTSTART:20240310T030000
TZOFFSETFROM:-0500
TZOFFSETTO:-0400
TZNAME:EDT
END:DAYLIGHT
END:VTIMEZONE
END:VCALENDAR