BEGIN:VCALENDAR
VERSION:2.0
PRODID:-//wp-events-plugin.com//7.2.3.1//EN
TZID:America/Detroit
X-WR-TIMEZONE:America/Detroit
BEGIN:VEVENT
UID:75524@annarborwithkids.com
DTSTART;TZID=America/Detroit:20251025T183000
DTEND;TZID=America/Detroit:20251025T200000
DTSTAMP:20251009T200116Z
URL:https://annarborwithkids.com/events/trunk-or-treat-16/
SUMMARY:Trunk or Treat
DESCRIPTION:\nTrunk or treating will begin at 6:30p. \n\n\n\nThere will be 
 tons of candy\, face painting\, games\, and costume contest vibes.\n\n\n\n
 If you want to give out candy from your trunk\, they ask you to arrive by 
 5:30p to setup &amp\; decorate.\n\n\n\n\n\n\n\n\n
CATEGORIES:Arbor Annie's Highlights,Elementary,Free,Halloween,Middle
 Schoolers,Outdoor,Parents,Preschoolers,Toddler,Trick or Treat
LOCATION:Ypsilanti National Little League Field\, 70 S Harris Rd\, Ypsilant
 i\, Michigan\, 48198\, United States
GEO:42.244276;-83.58199
X-APPLE-STRUCTURED-LOCATION;VALUE=URI;X-ADDRESS=70 S Harris Rd\, Ypsilanti\
 , Michigan\, 48198\, United States;X-APPLE-RADIUS=100;X-TITLE=Ypsilanti Na
 tional Little League Field:geo:42.244276,-83.58199
END:VEVENT
BEGIN:VTIMEZONE
TZID:America/Detroit
X-LIC-LOCATION:America/Detroit
BEGIN:DAYLIGHT
DTSTART:20250309T030000
TZOFFSETFROM:-0500
TZOFFSETTO:-0400
TZNAME:EDT
END:DAYLIGHT
END:VTIMEZONE
END:VCALENDAR