BEGIN:VCALENDAR
VERSION:2.0
PRODID:-//wp-events-plugin.com//7.2.3.1//EN
TZID:America/Detroit
X-WR-TIMEZONE:America/Detroit
BEGIN:VEVENT
UID:88209@annarborwithkids.com
DTSTART;TZID=America/Detroit:20251025T140000
DTEND;TZID=America/Detroit:20251025T160000
DTSTAMP:20250828T181344Z
URL:https://annarborwithkids.com/events/tricks-for-treats-2/
SUMMARY:Tricks For Treats
DESCRIPTION:\nGet ready for a spooktacular time!\n\n\n\nJoin Michigan Acade
 my of Gymanstics for a family friendly and fun-filled gym event packed wit
 h games\, obstacles\, and surprises at every turn.\n\n\n\nShow off your be
 st tricks and earn some tasty treats! Open to all ages\n\n\n\n\n
CATEGORIES:Advance Registration,Arbor Annie's
 Highlights,Elementary,Halloween,High Schoolers,Indoor Activities,Middle
 Schoolers,Optional Registration,Parents,Preschoolers,Toddler
LOCATION:Michigan Academy of Gymnastics\, 240 Metty Drive Suite C\, Ann Arb
 or\, Michigan\, 48103\, United States
GEO:42.294961;-83.865166
X-APPLE-STRUCTURED-LOCATION;VALUE=URI;X-ADDRESS=240 Metty Drive Suite C\, A
 nn Arbor\, Michigan\, 48103\, United States;X-APPLE-RADIUS=100;X-TITLE=Mic
 higan Academy of Gymnastics:geo:42.294961,-83.865166
END:VEVENT
BEGIN:VTIMEZONE
TZID:America/Detroit
X-LIC-LOCATION:America/Detroit
BEGIN:DAYLIGHT
DTSTART:20250309T030000
TZOFFSETFROM:-0500
TZOFFSETTO:-0400
TZNAME:EDT
END:DAYLIGHT
END:VTIMEZONE
END:VCALENDAR