BEGIN:VCALENDAR
VERSION:2.0
PRODID:-//wp-events-plugin.com//7.2.3.1//EN
TZID:America/Detroit
X-WR-TIMEZONE:America/Detroit
BEGIN:VEVENT
UID:89903@annarborwithkids.com
DTSTART;TZID=America/Detroit:20251018T150000
DTEND;TZID=America/Detroit:20251018T190000
DTSTAMP:20251002T180424Z
URL:https://annarborwithkids.com/events/trick-or-treat-trail/
SUMMARY:1st Annual Trick or Treat Trail
DESCRIPTION:\nStorm Break Stables in Milan is holding their first annual Tr
 ick or Treat Trail. \n\n\n\nThey will have a non-scary trick or treat hike
  through their 30 acres of wooded trail. Goodies will include candy and tr
 inkets.\n\n\n\nActivities include:\n\n\n\n\nCampfire &amp\; S'mores\n\n\n\
 nInflatable Bounce House\n\n\n\nMake &amp\; Take Crafts\n\n\n\nFood Trucks
 \n\n\n\nCider &amp\; Hot Chocolate\n\n\n\nPhoto Booth with a pony\n\n\n\nB
 outique for shopping\n\n\n\nPlayground\n\n\n\nIn-arena movie\n\n\n\nGoats 
 &amp\; Horses to pet &amp\; feed treats\n\n\n\n\n\n\n\n
CATEGORIES:Animals,Arbor Annie's
 Highlights,Craft/Vendor,Crafts,Elementary,Fall
 Fun,Food,Free,Halloween,Hikes/Walks,Meal,Outdoor,Parents,Preschoolers,Shop
 ping,Toddler,Trick or Treat
LOCATION:Storm Breaker Stables\, 11340 Darling Road\, Milan\, Michigan\, 48
 160\, United States
GEO:42.074014;-83.589249
X-APPLE-STRUCTURED-LOCATION;VALUE=URI;X-ADDRESS=11340 Darling Road\, Milan\
 , Michigan\, 48160\, United States;X-APPLE-RADIUS=100;X-TITLE=Storm Breake
 r Stables:geo:42.074014,-83.589249
END:VEVENT
BEGIN:VTIMEZONE
TZID:America/Detroit
X-LIC-LOCATION:America/Detroit
BEGIN:DAYLIGHT
DTSTART:20250309T030000
TZOFFSETFROM:-0500
TZOFFSETTO:-0400
TZNAME:EDT
END:DAYLIGHT
END:VTIMEZONE
END:VCALENDAR