BEGIN:VCALENDAR
VERSION:2.0
PRODID:-//wp-events-plugin.com//7.2.3.1//EN
TZID:America/Detroit
X-WR-TIMEZONE:America/Detroit
BEGIN:VEVENT
UID:52543@annarborwithkids.com
DTSTART;TZID=America/Detroit:20251018T120000
DTEND;TZID=America/Detroit:20251018T154500
DTSTAMP:20250915T210553Z
URL:https://annarborwithkids.com/events/trick-or-treat-on-the-trail/
SUMMARY:Trick or Treat Along the Trail
DESCRIPTION:\nCelebrate Halloween with fun\, safe and non-scary trick-or-tr
 eating in Kensington park for the whole family! Follow the path of pumpkin
 s along their festive trail to find fall-themed photo opportunities and mo
 re. \n\n\n\nWho knows which costumed characters you might find along the w
 ay? Dress in your costume and bring your candy bucket to collect goodies -
  adults too!\n\n\n\n\n\nWeather-appropriate costumes are encouraged as thi
 s event takes place all outdoors\, rain or shine.\n\n\n\nThe trail is abou
 t 1/4 mile with grass\, dirt and gravel\, and moderate hills. This event o
 ccurs entirely at the North Hickory Ridge picnic area- not the Kensington 
 Nature Center.\n\n\n\nThere are multiple time slots to register between no
 on &amp\; 3:45p. Within each slot the start times will be slightly stagger
 ed to minimize lines through the trail.\n\n\n\nRegistration is required by
  4p the day before the event.\n\n\n\n\n\n\n\n\n\n\n
CATEGORIES:Advance Registration,Animals,Arbor Annie's
 Highlights,Elementary,Halloween,Preschoolers,Trick or Treat
LOCATION:Kensington Metropark\, 4570 Huron River Parkway\, Milford\, Michig
 an\, 48381\, Beyond Washtenaw\, United States
GEO:42.528995;-83.637566
X-APPLE-STRUCTURED-LOCATION;VALUE=URI;X-ADDRESS=4570 Huron River Parkway\, 
 Milford\, Michigan\, 48381\, Beyond Washtenaw\, United States;X-APPLE-RADI
 US=100;X-TITLE=Kensington Metropark:geo:42.528995,-83.637566
END:VEVENT
BEGIN:VTIMEZONE
TZID:America/Detroit
X-LIC-LOCATION:America/Detroit
BEGIN:DAYLIGHT
DTSTART:20250309T030000
TZOFFSETFROM:-0500
TZOFFSETTO:-0400
TZNAME:EDT
END:DAYLIGHT
END:VTIMEZONE
END:VCALENDAR