BEGIN:VCALENDAR
VERSION:2.0
PRODID:-//wp-events-plugin.com//7.2.3.1//EN
TZID:America/Detroit
X-WR-TIMEZONE:America/Detroit
BEGIN:VEVENT
UID:75455@annarborwithkids.com
DTSTART;TZID=America/Detroit:20251029T160000
DTEND;TZID=America/Detroit:20251029T180000
DTSTAMP:20251022T210132Z
URL:https://annarborwithkids.com/events/trick-or-treat-in-depot-town/
SUMMARY:Trick or Treat in Depot Town
DESCRIPTION:\nThe Depot Town Merchants are holding a trick or treat event! 
 Thanks to Maiz\, Olde Towne Coin &amp\; Gold\, &amp\; the Thrift Depot for
  supplying the treats.\n\n\n\n\n\n\n
CATEGORIES:Arbor Annie's Highlights,Elementary,Free,Halloween,Middle
 Schoolers,Outdoor,Preschoolers,Trick or Treat
LOCATION:Depot Town\, Cross Street\, Ypsilanti\, Michigan\, 48198\, Ypsilan
 ti\, United States
GEO:42.2461462;-83.59825089999998
X-APPLE-STRUCTURED-LOCATION;VALUE=URI;X-ADDRESS=Cross Street\, Ypsilanti\, 
 Michigan\, 48198\, Ypsilanti\, United States;X-APPLE-RADIUS=100;X-TITLE=De
 pot Town:geo:42.2461462,-83.59825089999998
END:VEVENT
BEGIN:VTIMEZONE
TZID:America/Detroit
X-LIC-LOCATION:America/Detroit
BEGIN:DAYLIGHT
DTSTART:20250309T030000
TZOFFSETFROM:-0500
TZOFFSETTO:-0400
TZNAME:EDT
END:DAYLIGHT
END:VTIMEZONE
END:VCALENDAR