BEGIN:VCALENDAR
VERSION:2.0
PRODID:-//wp-events-plugin.com//7.2.3.1//EN
TZID:America/Detroit
X-WR-TIMEZONE:America/Detroit
BEGIN:VEVENT
UID:67276@annarborwithkids.com
DTSTART;TZID=America/Detroit:20251029T090000
DTEND;TZID=America/Detroit:20251029T140000
DTSTAMP:20251024T010143Z
URL:https://annarborwithkids.com/events/trick-or-treat-at-ann-arbor-farmer
 s-market/
SUMMARY:Trick or Treat at Ann Arbor Farmers Market
DESCRIPTION:\nCelebrate Halloween at the Ann Arbor Farmers Market on Wednes
 day\, October 29. Starting at 9a there will be candy stations\, games\, an
 d crafts. There will be face painting from 11a-2p\n\n\n\nWhile all ages ar
 e welcome\, the event will primarily be for young children as it is during
  the school day. (PS Check out more Halloween events for Toddlers and Pres
 choolers here).\n\n\n\n\n\n\n\n\n\n\n\n\n\n\n
CATEGORIES:Arbor Annie's Highlights,Babies,Farmers
 Market,Free,Halloween,Outdoor,Parents,Preschoolers,Toddler,Trick or Treat
LOCATION:Ann Arbor Farmers Market\, 315 Detroit St\, Ann Arbor\, MI\, 48104
 \, Kerrytown\, United States
GEO:42.2839239;-83.74643179999998
X-APPLE-STRUCTURED-LOCATION;VALUE=URI;X-ADDRESS=315 Detroit St\, Ann Arbor\
 , MI\, 48104\, Kerrytown\, United States;X-APPLE-RADIUS=100;X-TITLE=Ann Ar
 bor Farmers Market:geo:42.2839239,-83.74643179999998
END:VEVENT
BEGIN:VTIMEZONE
TZID:America/Detroit
X-LIC-LOCATION:America/Detroit
BEGIN:DAYLIGHT
DTSTART:20250309T030000
TZOFFSETFROM:-0500
TZOFFSETTO:-0400
TZNAME:EDT
END:DAYLIGHT
END:VTIMEZONE
END:VCALENDAR