BEGIN:VCALENDAR
VERSION:2.0
PRODID:-//wp-events-plugin.com//7.2.3.1//EN
TZID:America/Detroit
X-WR-TIMEZONE:America/Detroit
BEGIN:VEVENT
UID:89365@annarborwithkids.com
DTSTART;TZID=America/Detroit:20251025T090000
DTEND;TZID=America/Detroit:20251025T133000
DTSTAMP:20250918T192119Z
URL:https://annarborwithkids.com/events/trick-or-treat-and-the-play-boo-ti
 que/
SUMMARY:Trick or Treat and the Play BOO-tique
DESCRIPTION:\nNot-so-spooky Trick-or-Treating in their bonus rooms\, compli
 mentary micro-mini photo session of kids in their Halloween costumes and O
 pen Play.\n\n\n\n\n\n\n\n\n
CATEGORIES:Advance Registration,Arbor Annie's
 Highlights,Babies,Crafts,Halloween,Indoor Activities,Optional
 Registration,Photography,Preschoolers,Toddler,Trick or Treat
LOCATION:Hide and Seek Play Boutique\, 1954 S Industrial Hwy\, Suite A\, An
 n Arbor\, Michigan\, 48104\, United States
GEO:42.258329;-83.738722
X-APPLE-STRUCTURED-LOCATION;VALUE=URI;X-ADDRESS=1954 S Industrial Hwy\, Sui
 te A\, Ann Arbor\, Michigan\, 48104\, United States;X-APPLE-RADIUS=100;X-T
 ITLE=Hide and Seek Play Boutique:geo:42.258329,-83.738722
END:VEVENT
BEGIN:VTIMEZONE
TZID:America/Detroit
X-LIC-LOCATION:America/Detroit
BEGIN:DAYLIGHT
DTSTART:20250309T030000
TZOFFSETFROM:-0500
TZOFFSETTO:-0400
TZNAME:EDT
END:DAYLIGHT
END:VTIMEZONE
END:VCALENDAR