BEGIN:VCALENDAR
VERSION:2.0
PRODID:-//wp-events-plugin.com//7.2.3.1//EN
TZID:America/Detroit
X-WR-TIMEZONE:America/Detroit
BEGIN:VEVENT
UID:90188@annarborwithkids.com
DTSTART;TZID=America/Detroit:20251025T120000
DTEND;TZID=America/Detroit:20251025T160000
DTSTAMP:20251016T204725Z
URL:https://annarborwithkids.com/events/trick-and-treat-paint-your-own-pum
 pkin/
SUMMARY:Trick AND Treat - Paint Your Own Pumpkin
DESCRIPTION:\nTrick AND Treat at MilkShake Factory!\n\n\n\nCome dressed in 
 your favorite costume and listen to spooky music\, participate in coloring
  activities\, and paint your own mini pumpkin for free!\n\n\n\nThe winner 
 of the pumpkin painting contest gets a free milkshake!\n\n\n\nAnd\, of cou
 rse\, there's delicious milkshakes and gourmet chocolates to enjoy.\n\n\n\
 nWhile you're at Westgate\, join the Westate Trick or Treat.\n\n\n\n\n\n\n
CATEGORIES:Arbor Annie's
 Highlights,Crafts,Elementary,Food,Free,Halloween,High Schoolers,Indoor
 Activities,Middle Schoolers,Parents,Preschoolers,Toddler
LOCATION:MilkShake Factory\, 326 S Maple Rd\, Ann Arbor\, Michigan\, 48103\
 , United States
GEO:42.278546;-83.781061
X-APPLE-STRUCTURED-LOCATION;VALUE=URI;X-ADDRESS=326 S Maple Rd\, Ann Arbor\
 , Michigan\, 48103\, United States;X-APPLE-RADIUS=100;X-TITLE=MilkShake Fa
 ctory:geo:42.278546,-83.781061
END:VEVENT
BEGIN:VTIMEZONE
TZID:America/Detroit
X-LIC-LOCATION:America/Detroit
BEGIN:DAYLIGHT
DTSTART:20250309T030000
TZOFFSETFROM:-0500
TZOFFSETTO:-0400
TZNAME:EDT
END:DAYLIGHT
END:VTIMEZONE
END:VCALENDAR