BEGIN:VCALENDAR
VERSION:2.0
PRODID:-//wp-events-plugin.com//7.2.3.1//EN
TZID:America/Detroit
X-WR-TIMEZONE:America/Detroit
BEGIN:VEVENT
UID:23037@annarborwithkids.com
DTSTART;TZID=America/Detroit:20241207T170000
DTEND;TZID=America/Detroit:20241207T180000
DTSTAMP:20251023T030632Z
URL:https://annarborwithkids.com/events/tree-lighting-ceremony/
SUMMARY:Tree Lighting Ceremony
DESCRIPTION:\nJoin Saline for their Tree Lighting Ceremony before the holid
 ay parade. In 2025 they are celebrating the Golden Jubilee - Celebrating 5
 0 Years of Community.\n\n\n\nAs of October 22\, only the date of the 2025 
 parade is announced. A couple of years ago they combined the Tree Lighting
  and parade into the same night. We expect the same for 2025.\n\n\n\n2024 
 details below:\n\n\n\n The event is a partnership of City of Saline\, the 
 Saline Area Chamber of Commerce\, and KeyBank.. The Tree is in front of Ke
 yBank at the corner of Michigan Ave &amp\; N. Ann Arbor St.\n\n\n\nHead to
  downtown for: \n\n\n\n\nnoon-6p - Cocoa Crawl\n\n\n\n5-6p Tree Lighting\n
 \n\n\n5:30p - Merry Mile\n\n\n\n6:15p - Holiday Parade\n\n\n\n(2023 event 
 - waiting for 2024 updates) 7:30-8:30p - Photos with Santa at White Pine S
 tudios. \n\n\n\n\n\n\n\n
CATEGORIES:Arbor Annie's Highlights,Christmas,Elementary,Food,Free,High
 Schoolers,Holidays,Middle Schoolers,Parents,Preschoolers,Toddler,Tree
 Lighting
LOCATION:KeyBank\, 100 W. Michigan Ave\, Saline\, Michigan\, 48176\, Saline
 \, United States
GEO:42.1668211;-83.78175679999998
X-APPLE-STRUCTURED-LOCATION;VALUE=URI;X-ADDRESS=100 W. Michigan Ave\, Salin
 e\, Michigan\, 48176\, Saline\, United States;X-APPLE-RADIUS=100;X-TITLE=K
 eyBank:geo:42.1668211,-83.78175679999998
END:VEVENT
BEGIN:VTIMEZONE
TZID:America/Detroit
X-LIC-LOCATION:America/Detroit
BEGIN:STANDARD
DTSTART:20241103T010000
TZOFFSETFROM:-0400
TZOFFSETTO:-0500
TZNAME:EST
END:STANDARD
END:VTIMEZONE
END:VCALENDAR