BEGIN:VCALENDAR
VERSION:2.0
PRODID:-//wp-events-plugin.com//7.2.3.1//EN
TZID:America/Detroit
X-WR-TIMEZONE:America/Detroit
BEGIN:VEVENT
UID:93496@annarborwithkids.com
DTSTART;TZID=America/Detroit:20260704T070000
DTEND;TZID=America/Detroit:20260704T100000
DTSTAMP:20260409T175925Z
URL:https://annarborwithkids.com/events/treat-trot-ann-arbor/
SUMMARY:Treat Trot Ann Arbor
DESCRIPTION:\nQuestion: Is it supposed to be DO NOT STOP\, or DONUT STOP? A
 nswer: YES!\n\n\n\nBecause we’re all about fun\, family-friendly events 
 that welcome every pace and fitness level. This spring race is the perfect
  chance to challenge yourself\, enjoy creative swag\, and be part of an en
 couraging\, affordable\, and inclusive community. Whether you're chasing a
  PR or just showing up for the fun\, we’re here to cheer you on every st
 ep of the way.\n\n\n\nThe fun includes –\n\n\n\n\nGreat Swag – designe
 r shirt &amp\; custom medal\n\n\n\nChip-timing with live results and award
 s\n\n\n\nFree photos\n\n\n\nGreat snacks at the finish line\n\n\n\nPlenty 
 of fun!\n\n\n\n\nGrab your friends and family\, you are not going to want 
 to miss this one!\n\n\n\nCan't make the race? No problem! We offer a virtu
 al race option where you can run anywhere\, at any time\, and still earn t
 he fun swag!\n\n\n\n*Youth-based pricing for the 5k/10k\, 12 &amp\; Under 
 are only $17\n\n\n\n\n\n\n\n\n5k\, 10k &amp\; 15K registration includes a 
 custom bib\, designer shirt\, and an awesome finisher medal!\n\n\n\n1 Mile
  registration (untimed) includes a custom bib\, designer shirt and an awes
 ome finisher medal!\n\n\n\nThe kid's dash is a fun\, untimed dash for kidd
 os ages 10 and under. Registration includes a mini bib\, youth-sized shirt
 \, and a specifically crafted medal for the kids' dash event! (If your chi
 ld wants to run the kid's dash\, and doesn't want the SWAG\, they are welc
 ome to run on race day for free!)\n\n\n\n\n*Register by Thursday at midnig
 ht two weeks BEFORE the race to be guaranteed a shirt\n\n\n\n\n
CATEGORIES:Advance Registration,Arbor Annie's
 Highlights,Elementary,Food,High Schoolers,Middle
 Schoolers,Outdoor,Parents,Race,Registration Required
LOCATION:Rolling Hills County Park\, 7660 Stony Creek Rd\, Ypsilanti\, Mich
 igan\, 48197\, Ypsilanti Township\, United States
GEO:42.17612099999999;-83.648685
X-APPLE-STRUCTURED-LOCATION;VALUE=URI;X-ADDRESS=7660 Stony Creek Rd\, Ypsil
 anti\, Michigan\, 48197\, Ypsilanti Township\, United States;X-APPLE-RADIU
 S=100;X-TITLE=Rolling Hills County Park:geo:42.17612099999999,-83.648685
END:VEVENT
BEGIN:VTIMEZONE
TZID:America/Detroit
X-LIC-LOCATION:America/Detroit
BEGIN:DAYLIGHT
DTSTART:20260308T030000
TZOFFSETFROM:-0500
TZOFFSETTO:-0400
TZNAME:EDT
END:DAYLIGHT
END:VTIMEZONE
END:VCALENDAR