BEGIN:VCALENDAR
VERSION:2.0
PRODID:-//wp-events-plugin.com//7.2.3.1//EN
TZID:America/Detroit
X-WR-TIMEZONE:America/Detroit
BEGIN:VEVENT
UID:53888@annarborwithkids.com
DTSTART;TZID=America/Detroit:20251021T180000
DTEND;TZID=America/Detroit:20251021T193000
DTSTAMP:20250930T211429Z
URL:https://annarborwithkids.com/events/treat-of-agriculture/
SUMMARY:Treat of Agriculture
DESCRIPTION:\nWashtenaw County Farm Bureau is holding a&nbsp\;FREE Trick-or
 -Treat Style Event.\n\n\n\nWhile trick or treating\, instead of candy\, ki
 ds will receive Michigan agriculture products\n\n\n\nThe event is for kids
  ages 12 &amp\; under and their families. Treats guaranteed to the first 2
 50 children\n\n\n\nCostumes are encouraged. There will be a free photo boo
 th &amp\; fun Halloween games.\n\n\n\nThe events is listed as happening at
  Washtenaw Farm Council Grounds - Building D.\n\n\n\n\n\n\n\n\n\n\n\n\n
CATEGORIES:Arbor Annie's Highlights,Elementary,Food,Free,Halloween,Middle
 Schoolers,Preschoolers,Toddler,Trick or Treat
LOCATION:Washtenaw Farm Council Fairgrounds\, 5055 Ann Arbor Saline Rd\, An
 n Arbor\, Michigan\, 48103\, South\, United States
GEO:42.212444;-83.79470700000002
X-APPLE-STRUCTURED-LOCATION;VALUE=URI;X-ADDRESS=5055 Ann Arbor Saline Rd\, 
 Ann Arbor\, Michigan\, 48103\, South\, United States;X-APPLE-RADIUS=100;X-
 TITLE=Washtenaw Farm Council Fairgrounds:geo:42.212444,-83.79470700000002
END:VEVENT
BEGIN:VTIMEZONE
TZID:America/Detroit
X-LIC-LOCATION:America/Detroit
BEGIN:DAYLIGHT
DTSTART:20250309T030000
TZOFFSETFROM:-0500
TZOFFSETTO:-0400
TZNAME:EDT
END:DAYLIGHT
END:VTIMEZONE
END:VCALENDAR