BEGIN:VCALENDAR
VERSION:2.0
PRODID:-//wp-events-plugin.com//7.2.3.1//EN
TZID:America/Detroit
X-WR-TIMEZONE:America/Detroit
BEGIN:VEVENT
UID:75447@annarborwithkids.com
DTSTART;TZID=America/Detroit:20251031T160000
DTEND;TZID=America/Detroit:20251031T180000
DTSTAMP:20251023T211236Z
URL:https://annarborwithkids.com/events/traver-village-trick-or-treat/
SUMMARY:Traver Village Trick or Treat
DESCRIPTION:\nTraver Village Mall will be hosting a trick or treat on Hallo
 ween. Trick or treat at participating businesses at Traver Village.\n\n\n\
 nGet an early start on trick or treating before the neighborhood trick or 
 treat starts. It's also a great option if it is lightly raining since you 
 can mostly stay under the covered sidewalks.\n\n\n\n\n\n\n\n\n
CATEGORIES:Arbor Annie's Highlights,Elementary,Free,Halloween,Middle
 Schoolers,Parents,Preschoolers,Shopping,Toddler,Trick or Treat
LOCATION:My Urban Toddler Ann Arbor\, 2631 Plymouth Rd\, Ann Arbor\, Michig
 an\, 48105\, United States
GEO:42.304148;-83.70929
X-APPLE-STRUCTURED-LOCATION;VALUE=URI;X-ADDRESS=2631 Plymouth Rd\, Ann Arbo
 r\, Michigan\, 48105\, United States;X-APPLE-RADIUS=100;X-TITLE=My Urban T
 oddler Ann Arbor:geo:42.304148,-83.70929
END:VEVENT
BEGIN:VTIMEZONE
TZID:America/Detroit
X-LIC-LOCATION:America/Detroit
BEGIN:DAYLIGHT
DTSTART:20250309T030000
TZOFFSETFROM:-0500
TZOFFSETTO:-0400
TZNAME:EDT
END:DAYLIGHT
END:VTIMEZONE
END:VCALENDAR