BEGIN:VCALENDAR
VERSION:2.0
PRODID:-//wp-events-plugin.com//7.2.3.1//EN
TZID:America/Detroit
X-WR-TIMEZONE:America/Detroit
BEGIN:VEVENT
UID:65246@annarborwithkids.com
DTSTART;TZID=America/Detroit:20230614T140000
DTEND;TZID=America/Detroit:20230614T150000
DTSTAMP:20230609T024927Z
URL:https://annarborwithkids.com/events/traditional-japanese-toys/
SUMMARY:Teru Teru Bozu: Japanese Weather Dolls
DESCRIPTION:\nJoin AADL for this seasonal craft inspired by the Japan Socie
 ty London to learn how to make Japanese weather dolls\, called Teru Teru B
 ozu\, to ward off the rainy season. \n\n\n\nFor grades K-Adult\n\n\n\nEdit
 ors note: Can we change it to dolls to bring on the rain this summer?\n\n\
 n\n\n\nJapan Week Activities\n\n\n\n[events_list tag="Japan Week" scope="2
 023-06-01\,2023-06-30"][/events_list]\n\n\n
CATEGORIES:Arbor Annie's Highlights,BIPOC,Crafts,Cultural
 Celebration,Elementary,Free,High Schoolers,Indoor Activities,Middle
 Schoolers,Parents
LOCATION:Pittsfield Branch Library\, 2359 Oak Valley Dr\, Ann Arbor\, Michi
 gan\, 48103\, Pittsfield\, United States
GEO:42.2526001;-83.77801540000002
X-APPLE-STRUCTURED-LOCATION;VALUE=URI;X-ADDRESS=2359 Oak Valley Dr\, Ann Ar
 bor\, Michigan\, 48103\, Pittsfield\, United States;X-APPLE-RADIUS=100;X-T
 ITLE=Pittsfield Branch Library:geo:42.2526001,-83.77801540000002
END:VEVENT
BEGIN:VTIMEZONE
TZID:America/Detroit
X-LIC-LOCATION:America/Detroit
BEGIN:DAYLIGHT
DTSTART:20230312T030000
TZOFFSETFROM:-0500
TZOFFSETTO:-0400
TZNAME:EDT
END:DAYLIGHT
END:VTIMEZONE
END:VCALENDAR