BEGIN:VCALENDAR
VERSION:2.0
PRODID:-//wp-events-plugin.com//7.2.3.1//EN
TZID:America/Detroit
X-WR-TIMEZONE:America/Detroit
BEGIN:VEVENT
UID:29010@annarborwithkids.com
DTSTART;TZID=America/Detroit:20230716T100000
DTEND;TZID=America/Detroit:20230716T180000
DTSTAMP:20230623T044054Z
URL:https://annarborwithkids.com/events/townie-street-party-3/
SUMMARY:Townie Street Party
DESCRIPTION:\nThe Townie Street Party returns after a 3 year COVID hiatus! 
 This year it is an all-day event on a Sunday instead of happening on a wee
 knight. The Youth Art Fair is also taking an extra year off before returni
 ng in 2024 as a standalone event.\n\n\n\nI appreciate the shift to a weeke
 nd event. Looking back at our attendance in the past\, we attended in 2013
  (read our review) and missed a few years when my daughter had a softball 
 game. \n\n\n\n\n\nThe Townie Street Party is the annual Art Fair kick-off 
 for locals. It will start with the Dart for Art at 9:30a. After the race\,
  the Townie Street Party will include: \n\n\n\n\nArt Activity Zone\n\nAnn 
 Arbor Symphony Orchestra\n\n\n\nAnn Arbor Hands-On Museum\n\n\n\nLeslie Sc
 ience &amp\; Nature Center\n\n\n\nDr Susan Gelman's Conceptual Development
  Lab at UM\n\n\n\n\n\nCommunity Central\n\nCommunity Television Network\n\
 n\n\nAnn Arbor Citizens Climate Lobby\n\n\n\nMichigan Theater\n\n\n\n\n\nE
 ntertainment\n\n10a-3p - DJ Tres Styles and Athletic Mic League\n\n\n\n4-6
 p - Joshua Davis and his band\n\n\n\n\n\nTownie Pub &amp\; Grub\n\nArbor B
 rewing Company\n\n\n\nBearclaw Coffee Co\n\n\n\nBao Boys\n\n\n\nDouble T F
 oods\n\n\n\nMity Nice Italian Ice\n\n\n\nC.A.Y.A Smoke House Grill\n\n\n\n
 Impasto\n\n\n\n\n\n\n\n\nTownie Pub &amp\; Grub\n\n\n\nThe Townie Pub &amp
 \; Grub will feature gourmet food trucks\, microbrews\, and mimosas (for t
 hose 21+).\n\n\n\n\nArbor Brewing Company\n\n\n\nBearclaw Coffee Co\n\n\n\
 nBao Boys\n\n\n\nDouble T Foods\n\n\n\nMity Nice Italian Ice\n\n\n\nC.A.Y.
 A Smoke House Grill\n\n\n\nImpasto\n\n\n\n\n\n
ATTACH;FMTTYPE=image/jpeg:https://annarborwithkids.com/wp-content/uploads/
 2017/07/ann-arbor-art-fair-activity-zone.jpg
CATEGORIES:Arbor Annie's Highlights,Crafts,Elementary,Free,Middle
 Schoolers,Music/Concerts,Parents,Preschoolers,Toddler
LOCATION:Ingalls Mall\, 881 North University\, Ann Arbor\, Michigan\, 48109
 \, Campus\, United States
GEO:42.2794218;-83.7387028
X-APPLE-STRUCTURED-LOCATION;VALUE=URI;X-ADDRESS=881 North University\, Ann 
 Arbor\, Michigan\, 48109\, Campus\, United States;X-APPLE-RADIUS=100;X-TIT
 LE=Ingalls Mall:geo:42.2794218,-83.7387028
END:VEVENT
BEGIN:VTIMEZONE
TZID:America/Detroit
X-LIC-LOCATION:America/Detroit
BEGIN:DAYLIGHT
DTSTART:20230312T030000
TZOFFSETFROM:-0500
TZOFFSETTO:-0400
TZNAME:EDT
END:DAYLIGHT
END:VTIMEZONE
END:VCALENDAR