BEGIN:VCALENDAR
VERSION:2.0
PRODID:-//wp-events-plugin.com//7.2.3.1//EN
TZID:America/Detroit
X-WR-TIMEZONE:America/Detroit
BEGIN:VEVENT
UID:86793@annarborwithkids.com
DTSTART;TZID=America/Detroit:20250619T090000
DTEND;TZID=America/Detroit:20250619T120000
DTSTAMP:20250522T203650Z
URL:https://annarborwithkids.com/events/tot-splash-2025-06-19/
SUMMARY:Tot Splash
DESCRIPTION:\nBuhr Park&nbsp\;holds Tot Splash just for children ages 7 and
  under and their parents. During Tot Splash\, only the children's pool is 
 open for&nbsp\;public swim. The main pool may be in use for swim team\, sw
 im lessons or adult lap swim.\n\n\n\nFor 2025\, Tot Splash keeps the expan
 ded hours introduced in 2024. It is now offered 9a-noon Monday-Friday with
  a Sunday session from 9a-1p. The pool also opens an hour earlier at noon 
 instead of 1p from Monday-Thursday.\n\n\n\nAdmission is $6/adult\, $5 for 
 youth (ages 4-17) &amp\; seniors (55+) and free for children 3 and under. 
 Once Tot Splash ends you can stay at the pool without paying admission aga
 in.\n\n\n\n\n\n\n\n\n\n\n\n\n\n\n\n\n\nOther Upcoming Tot Splashes:\n\n\n\
 n[events_list tag="Tot Splash" limit="20"][/events_list]\n
CATEGORIES:Babies,Preschoolers,Swimming,Toddler
LOCATION:Buhr Park Pool\, 2751 Packard Rd\, Ann Arbor\, Michigan\, 48104\, 
 South\, United States
GEO:42.2478121;-83.7117184
X-APPLE-STRUCTURED-LOCATION;VALUE=URI;X-ADDRESS=2751 Packard Rd\, Ann Arbor
 \, Michigan\, 48104\, South\, United States;X-APPLE-RADIUS=100;X-TITLE=Buh
 r Park Pool:geo:42.2478121,-83.7117184
END:VEVENT
BEGIN:VTIMEZONE
TZID:America/Detroit
X-LIC-LOCATION:America/Detroit
BEGIN:DAYLIGHT
DTSTART:20250309T030000
TZOFFSETFROM:-0500
TZOFFSETTO:-0400
TZNAME:EDT
END:DAYLIGHT
END:VTIMEZONE
END:VCALENDAR