BEGIN:VCALENDAR
VERSION:2.0
PRODID:-//wp-events-plugin.com//7.2.3.1//EN
TZID:America/Detroit
X-WR-TIMEZONE:America/Detroit
BEGIN:VEVENT
UID:86054@annarborwithkids.com
DTSTART;TZID=America/Detroit:20250619T173000
DTEND;TZID=America/Detroit:20250619T173000
DTSTAMP:20250425T225403Z
URL:https://annarborwithkids.com/events/top-of-the-park-retreat-2025-06-19
 /
SUMMARY:Top of the Park Retreat
DESCRIPTION:\nRetreat is a series of mind-body sessions at Top of the Park 
 starting at 5p. It's like an alternative happy hour enjoying a relaxing la
 te afternoon workout. Sessions vary by the day and include yoga\, world da
 nce\, barre\, martial arts\, and more.\n\n\n\nNote these events are geared
  towards adults\, but older tweens and teens should be able to join in.\n\
 n\n\nRetreat is held on the lawn of the Power Center\n\n\n\n\nJune 13 - Yo
 ga for everBODY with Carter\n\n\n\nJune 14 - Soulful Movement with Teresa 
 Meyers\n\n\n\nJune 15 - Taekwondo with Omega Martial Arts Saline\n\n\n\nJu
 ne 17 - Kickboxing with Omega Martial Arts Saline\n\n\n\nJune 18 - Barre w
 ith Barre3\n\n\n\nJune 19 - SPENGA Ann Arbor\n\n\n\nJune 20 - Jazzercise w
 ith Saline Jazzercise\n\n\n\nJune 21 - Salsa Lessons with Laura Geldys of 
 A2 Dance Revolution\n\n\n\nJune 22 - Bombay Jam®️ with Miraya Fit\n\n\n
 \nJune 24 - Swing Dance Lessons with Ann Arbor Swing\n\n\n\nJune 25 - Cros
 s Fit with Fit2Live\n\n\n\nJune 26 - Taiji with Ann-Hua Chinese School\n\n
 \n\nJune 27 - Pilates with Anne\n\n\n\nJune 28 - Yoga Flex with NASM\n\n\n
 \nJune 29 - Capoeira with Mestre Lobinho\n\n\n\n\nFor younger kids\, we re
 commend checking out the KidZone tent. \n\n\n\n\n\n\n
CATEGORIES:Fitness/Health,Free,High Schoolers,Middle
 Schoolers,Parents,Sport
LOCATION:Top of the Park\, 915 E. Washington St\, Ann Arbor\, Michigan\, 48
 109\, University of Michigan\, United States
GEO:42.2807892;-83.73815560000003
X-APPLE-STRUCTURED-LOCATION;VALUE=URI;X-ADDRESS=915 E. Washington St\, Ann 
 Arbor\, Michigan\, 48109\, University of Michigan\, United States;X-APPLE-
 RADIUS=100;X-TITLE=Top of the Park:geo:42.2807892,-83.73815560000003
END:VEVENT
BEGIN:VTIMEZONE
TZID:America/Detroit
X-LIC-LOCATION:America/Detroit
BEGIN:DAYLIGHT
DTSTART:20250309T030000
TZOFFSETFROM:-0500
TZOFFSETTO:-0400
TZNAME:EDT
END:DAYLIGHT
END:VTIMEZONE
END:VCALENDAR